BEGIN:VCALENDAR
VERSION:2.0
PRODID:-//Kirchengemeinde Fambach - ECPv6.15.20//NONSGML v1.0//EN
CALSCALE:GREGORIAN
METHOD:PUBLISH
X-WR-CALNAME:Kirchengemeinde Fambach
X-ORIGINAL-URL:https://fambach.eksm.de
X-WR-CALDESC:Veranstaltungen für Kirchengemeinde Fambach
REFRESH-INTERVAL;VALUE=DURATION:PT1H
X-Robots-Tag:noindex
X-PUBLISHED-TTL:PT1H
BEGIN:VTIMEZONE
TZID:Europe/Berlin
BEGIN:DAYLIGHT
TZOFFSETFROM:+0100
TZOFFSETTO:+0200
TZNAME:CEST
DTSTART:20240331T010000
END:DAYLIGHT
BEGIN:STANDARD
TZOFFSETFROM:+0200
TZOFFSETTO:+0100
TZNAME:CET
DTSTART:20241027T010000
END:STANDARD
BEGIN:DAYLIGHT
TZOFFSETFROM:+0100
TZOFFSETTO:+0200
TZNAME:CEST
DTSTART:20250330T010000
END:DAYLIGHT
BEGIN:STANDARD
TZOFFSETFROM:+0200
TZOFFSETTO:+0100
TZNAME:CET
DTSTART:20251026T010000
END:STANDARD
BEGIN:DAYLIGHT
TZOFFSETFROM:+0100
TZOFFSETTO:+0200
TZNAME:CEST
DTSTART:20260329T010000
END:DAYLIGHT
BEGIN:STANDARD
TZOFFSETFROM:+0200
TZOFFSETTO:+0100
TZNAME:CET
DTSTART:20261025T010000
END:STANDARD
END:VTIMEZONE
BEGIN:VEVENT
DTSTART;TZID=Europe/Berlin:20250413T100000
DTEND;TZID=Europe/Berlin:20250413T110000
DTSTAMP:20260421T145154
CREATED:20250222T191540Z
LAST-MODIFIED:20250222T191540Z
UID:5151-1744538400-1744542000@fambach.eksm.de
SUMMARY:Gottesdienst an Palmsonntag im Gemeindehaus Fambach
DESCRIPTION:
URL:https://fambach.eksm.de/veranstaltung/gottesdienst-an-palmsonntag-im-gemeindehaus-fambach/
LOCATION:Gemeindehaus Fambach\, Am Berg 10\, Fambach\, Thüringen\, 98597
CATEGORIES:Gottesdienste
END:VEVENT
BEGIN:VEVENT
DTSTART;VALUE=DATE:20250414
DTEND;VALUE=DATE:20250418
DTSTAMP:20260421T145154
CREATED:20241117T122551Z
LAST-MODIFIED:20241117T123221Z
UID:4931-1744588800-1744934399@fambach.eksm.de
SUMMARY:Schließzeit des Kindergartens vor Ostern 2025
DESCRIPTION:
URL:https://fambach.eksm.de/veranstaltung/schliesszeit-vor-ostern/
LOCATION:Kindergarten Katharinenheim Fambach\, Schulweg 20\, Fambach\, 98597\, Germany
CATEGORIES:Schließzeiten,Termine & Veranstaltungen des Kindergartens
END:VEVENT
BEGIN:VEVENT
DTSTART;TZID=Europe/Berlin:20250417T183000
DTEND;TZID=Europe/Berlin:20250417T193000
DTSTAMP:20260421T145154
CREATED:20250222T191712Z
LAST-MODIFIED:20250222T191712Z
UID:5153-1744914600-1744918200@fambach.eksm.de
SUMMARY:Tischabendmahl zum Gründonnerstag im Gemeindehaus Fambach
DESCRIPTION:
URL:https://fambach.eksm.de/veranstaltung/tischabendmahl-zum-gruendonnerstag-im-gemeindehaus-fambach/
LOCATION:Gemeindehaus Fambach\, Am Berg 10\, Fambach\, Thüringen\, 98597
CATEGORIES:Gottesdienste
END:VEVENT
BEGIN:VEVENT
DTSTART;TZID=Europe/Berlin:20250418T150000
DTEND;TZID=Europe/Berlin:20250418T160000
DTSTAMP:20260421T145154
CREATED:20250222T191901Z
LAST-MODIFIED:20250222T191901Z
UID:5155-1744988400-1744992000@fambach.eksm.de
SUMMARY:Andacht zur Todesstunde Jesu an Karfreitag in der Jakobuskirche Fambach
DESCRIPTION:
URL:https://fambach.eksm.de/veranstaltung/andacht-zur-todesstunde-jesu-an-karfreitag-in-der-jakobuskirche-fambach/
LOCATION:Jakobuskirche Fambach\, Kirchberg 4\, Fambach\, Thüringen\, 98597\, Deutschland
CATEGORIES:Andachten,Gottesdienste
END:VEVENT
BEGIN:VEVENT
DTSTART;TZID=Europe/Berlin:20250420T100000
DTEND;TZID=Europe/Berlin:20250420T110000
DTSTAMP:20260421T145154
CREATED:20250222T192020Z
LAST-MODIFIED:20250410T145722Z
UID:5157-1745143200-1745146800@fambach.eksm.de
SUMMARY:Familiengottesdienst mit Kirchenchor und Kindertheater an Ostersonntag in der Jakobuskirche Fambach
DESCRIPTION:…mit kleinen Überraschungen für alle Kinder 🙂
URL:https://fambach.eksm.de/veranstaltung/abendmahlsgottesdienst-an-ostersonntag-in-der-jakobuskirche-fambach/
LOCATION:Jakobuskirche Fambach\, Kirchberg 4\, Fambach\, Thüringen\, 98597\, Deutschland
CATEGORIES:Familiengottesdienste,Gottesdienste,Kindernachmittag
ATTACH;FMTTYPE=image/png:https://fambach.eksm.de/wp-content/uploads/2025/04/Plakat-Ostern-2025-e1744296538107.png
END:VEVENT
BEGIN:VEVENT
DTSTART;TZID=Europe/Berlin:20250421T100000
DTEND;TZID=Europe/Berlin:20250421T110000
DTSTAMP:20260421T145154
CREATED:20250222T192149Z
LAST-MODIFIED:20250410T145919Z
UID:5159-1745229600-1745233200@fambach.eksm.de
SUMMARY:Festgottesdienst an Ostermontag im Simultangebäude Heßles
DESCRIPTION:
URL:https://fambach.eksm.de/veranstaltung/gottesdienst-an-ostermontag-in-der-jakobuskirche-fambach/
LOCATION:Simultangebäude Heßles\, Str. der Freundschaft 49\, Fambach OT Heßles\, Thüringen\, 98597\, Deutschland
CATEGORIES:Festgottesdienste,Gottesdienste
END:VEVENT
END:VCALENDAR