BEGIN:VCALENDAR
VERSION:2.0
PRODID:-//Kirchengemeinde Fambach - ECPv6.15.20//NONSGML v1.0//EN
CALSCALE:GREGORIAN
METHOD:PUBLISH
X-ORIGINAL-URL:https://fambach.eksm.de
X-WR-CALDESC:Veranstaltungen für Kirchengemeinde Fambach
REFRESH-INTERVAL;VALUE=DURATION:PT1H
X-Robots-Tag:noindex
X-PUBLISHED-TTL:PT1H
BEGIN:VTIMEZONE
TZID:Europe/Berlin
BEGIN:DAYLIGHT
TZOFFSETFROM:+0100
TZOFFSETTO:+0200
TZNAME:CEST
DTSTART:20230326T010000
END:DAYLIGHT
BEGIN:STANDARD
TZOFFSETFROM:+0200
TZOFFSETTO:+0100
TZNAME:CET
DTSTART:20231029T010000
END:STANDARD
BEGIN:DAYLIGHT
TZOFFSETFROM:+0100
TZOFFSETTO:+0200
TZNAME:CEST
DTSTART:20240331T010000
END:DAYLIGHT
BEGIN:STANDARD
TZOFFSETFROM:+0200
TZOFFSETTO:+0100
TZNAME:CET
DTSTART:20241027T010000
END:STANDARD
BEGIN:DAYLIGHT
TZOFFSETFROM:+0100
TZOFFSETTO:+0200
TZNAME:CEST
DTSTART:20250330T010000
END:DAYLIGHT
BEGIN:STANDARD
TZOFFSETFROM:+0200
TZOFFSETTO:+0100
TZNAME:CET
DTSTART:20251026T010000
END:STANDARD
END:VTIMEZONE
BEGIN:VEVENT
DTSTART;TZID=Europe/Berlin:20241127T190000
DTEND;TZID=Europe/Berlin:20241127T203000
DTSTAMP:20260422T042233
CREATED:20241116T200912Z
LAST-MODIFIED:20241116T200921Z
UID:4913-1732734000-1732739400@fambach.eksm.de
SUMMARY:Bastel-Elternabend
DESCRIPTION:Wir freuen uns auf den Bastel-Elternabend. Ein Abend\, an dem wir gemeinsam die Adventskalender für die Kinder in den jeweiligen Gruppen basteln möchten.
URL:https://fambach.eksm.de/veranstaltung/bastel-elternabend/
LOCATION:Kindergarten Katharinenheim Fambach\, Schulweg 20\, Fambach\, 98597\, Germany
CATEGORIES:Termine & Veranstaltungen des Kindergartens
END:VEVENT
BEGIN:VEVENT
DTSTART;TZID=Europe/Berlin:20241130T153000
DTEND;TZID=Europe/Berlin:20241130T190000
DTSTAMP:20260422T042233
CREATED:20241117T121558Z
LAST-MODIFIED:20241117T121558Z
UID:4923-1732980600-1732993200@fambach.eksm.de
SUMMARY:Weihnachtsmarkt auf der Freilichtbühne mit einem Programm des Kindergartens
DESCRIPTION:
URL:https://fambach.eksm.de/veranstaltung/weihnachtsmarkt-auf-der-freilichtbuehne-mit-einem-programm-des-kindergartens/
LOCATION:Freilichtbühne Fambach\, Am Famberg 3\, Fambach\, 98597\, Germany
CATEGORIES:Termine & Veranstaltungen des Kindergartens
END:VEVENT
END:VCALENDAR