BEGIN:VCALENDAR
VERSION:2.0
PRODID:-//Kirchengemeinde Fambach - ECPv6.15.20//NONSGML v1.0//EN
CALSCALE:GREGORIAN
METHOD:PUBLISH
X-ORIGINAL-URL:https://fambach.eksm.de
X-WR-CALDESC:Veranstaltungen für Kirchengemeinde Fambach
REFRESH-INTERVAL;VALUE=DURATION:PT1H
X-Robots-Tag:noindex
X-PUBLISHED-TTL:PT1H
BEGIN:VTIMEZONE
TZID:Europe/Berlin
BEGIN:DAYLIGHT
TZOFFSETFROM:+0100
TZOFFSETTO:+0200
TZNAME:CEST
DTSTART:20240331T010000
END:DAYLIGHT
BEGIN:STANDARD
TZOFFSETFROM:+0200
TZOFFSETTO:+0100
TZNAME:CET
DTSTART:20241027T010000
END:STANDARD
BEGIN:DAYLIGHT
TZOFFSETFROM:+0100
TZOFFSETTO:+0200
TZNAME:CEST
DTSTART:20250330T010000
END:DAYLIGHT
BEGIN:STANDARD
TZOFFSETFROM:+0200
TZOFFSETTO:+0100
TZNAME:CET
DTSTART:20251026T010000
END:STANDARD
BEGIN:DAYLIGHT
TZOFFSETFROM:+0100
TZOFFSETTO:+0200
TZNAME:CEST
DTSTART:20260329T010000
END:DAYLIGHT
BEGIN:STANDARD
TZOFFSETFROM:+0200
TZOFFSETTO:+0100
TZNAME:CET
DTSTART:20261025T010000
END:STANDARD
END:VTIMEZONE
BEGIN:VEVENT
DTSTART;TZID=Europe/Berlin:20251213T180000
DTEND;TZID=Europe/Berlin:20251213T193000
DTSTAMP:20260420T033530
CREATED:20251022T190528Z
LAST-MODIFIED:20251208T132510Z
UID:5406-1765648800-1765654200@fambach.eksm.de
SUMMARY:Weihnachtskonzert
DESCRIPTION:Die Lichter leuchten\, die Vorfreude steigt und die Tage bis zum Weihnachtsfest 2025 sind gezählt. \nDa fehlt nur noch die passende musikalische Einstimmung! Wir freuen uns auch in diesem Jahr zu unserem Weihnachtskonzert einladen zu können. Am 13. Dezember 2025 erklingt die Jakobuskirche ab 18 Uhr festlich und weihnachtlich. \nDie Fambergmusikanten mit ihrem Jugendorchester\, der Kirchenchor sowie Kinder- und Jugendchor der Fambacher Kirchgemeinde haben ein abwechslungsreiches musikalisches Programm vorbereitet. \nKarten können ab sofort im Gemeindeamt oder am Veranstaltungstag an der Abendkasse erworben werden. \nWir freuen uns auf Ihr Kommen!
URL:https://fambach.eksm.de/veranstaltung/weihnachtskonzert/
LOCATION:Jakobuskirche Fambach\, Kirchberg 4\, Fambach\, Thüringen\, 98597\, Deutschland
CATEGORIES:Konzerte
ATTACH;FMTTYPE=image/png:https://fambach.eksm.de/wp-content/uploads/2025/12/Weihnachtskonzert2025.png
END:VEVENT
BEGIN:VEVENT
DTSTART;TZID=Europe/Berlin:20251217T150000
DTEND;TZID=Europe/Berlin:20251217T160000
DTSTAMP:20260420T033530
CREATED:20251022T192212Z
LAST-MODIFIED:20251212T101003Z
UID:5428-1765983600-1765987200@fambach.eksm.de
SUMMARY:Krippenspiel des Kindergartens in der Jakobuskirche - Herzliche Einladung an alle Kinder und ihre Familien
DESCRIPTION:Achtung: Der Kindergarten schließt an diesem Tag beretis um 14:30 Uhr
URL:https://fambach.eksm.de/veranstaltung/krippenspiel-des-kindergartens-in-der-jakobuskirche-herzliche-einladung-an-alle-kinder-und-ihre-familien/
LOCATION:Jakobuskirche Fambach\, Kirchberg 4\, Fambach\, Thüringen\, 98597\, Deutschland
CATEGORIES:Termine & Veranstaltungen des Kindergartens
ATTACH;FMTTYPE=image/png:https://fambach.eksm.de/wp-content/uploads/2025/10/Krippenspiel-2025.png
END:VEVENT
BEGIN:VEVENT
DTSTART;TZID=Europe/Berlin:20251221T100000
DTEND;TZID=Europe/Berlin:20251221T110000
DTSTAMP:20260420T033530
CREATED:20251117T191037Z
LAST-MODIFIED:20251117T192252Z
UID:5450-1766311200-1766314800@fambach.eksm.de
SUMMARY:Gottesdienst zum 4. Advent in Fambach
DESCRIPTION:
URL:https://fambach.eksm.de/veranstaltung/gottesdienst-zum-4-advent-in-fambach/
LOCATION:Jakobuskirche Fambach\, Kirchberg 4\, Fambach\, Thüringen\, 98597\, Deutschland
CATEGORIES:Gottesdienste
END:VEVENT
BEGIN:VEVENT
DTSTART;TZID=Europe/Berlin:20251224T170000
DTEND;TZID=Europe/Berlin:20251224T180000
DTSTAMP:20260420T033530
CREATED:20251117T191338Z
LAST-MODIFIED:20251117T191338Z
UID:5452-1766595600-1766599200@fambach.eksm.de
SUMMARY:Krippenspielgottesdienst an Heilig Abend in Fambach
DESCRIPTION:Herzliche Einladung auch an alle Heßleser!
URL:https://fambach.eksm.de/veranstaltung/krippenspielgottesdienst-an-heilig-abend-in-fambach/
LOCATION:Jakobuskirche Fambach\, Kirchberg 4\, Fambach\, Thüringen\, 98597\, Deutschland
CATEGORIES:Gottesdienste,Krippenspiel
ATTACH;FMTTYPE=image/jpeg:https://fambach.eksm.de/wp-content/uploads/2020/12/Heiligabend_2020.jpg
END:VEVENT
BEGIN:VEVENT
DTSTART;TZID=Europe/Berlin:20251225T100000
DTEND;TZID=Europe/Berlin:20251225T113000
DTSTAMP:20260420T033530
CREATED:20251117T191905Z
LAST-MODIFIED:20251117T192333Z
UID:5454-1766656800-1766662200@fambach.eksm.de
SUMMARY:Abendmahlsgottesdienst zum 1. Weihnachtsfeiertag mit dem Kirchenchor in Fambach
DESCRIPTION:
URL:https://fambach.eksm.de/veranstaltung/abendmahlsgottesdienst-zum-1-weihnachtsfeiertag-mit-dem-kirchenchor/
LOCATION:Jakobuskirche Fambach\, Kirchberg 4\, Fambach\, Thüringen\, 98597\, Deutschland
CATEGORIES:Abendmahlgottesdienste,Gottesdienste
END:VEVENT
BEGIN:VEVENT
DTSTART;TZID=Europe/Berlin:20251231T170000
DTEND;TZID=Europe/Berlin:20251231T180000
DTSTAMP:20260420T033530
CREATED:20251117T192056Z
LAST-MODIFIED:20251117T192056Z
UID:5456-1767200400-1767204000@fambach.eksm.de
SUMMARY:Andacht zum Jahresschluss in Fambach
DESCRIPTION:
URL:https://fambach.eksm.de/veranstaltung/andacht-zum-jahresschluss-in-fambach/
LOCATION:Jakobuskirche Fambach\, Kirchberg 4\, Fambach\, Thüringen\, 98597\, Deutschland
CATEGORIES:Andachten
END:VEVENT
END:VCALENDAR