BEGIN:VCALENDAR
VERSION:2.0
PRODID:-//Kirchengemeinde Fambach - ECPv6.15.20//NONSGML v1.0//EN
CALSCALE:GREGORIAN
METHOD:PUBLISH
X-WR-CALNAME:Kirchengemeinde Fambach
X-ORIGINAL-URL:https://fambach.eksm.de
X-WR-CALDESC:Veranstaltungen für Kirchengemeinde Fambach
REFRESH-INTERVAL;VALUE=DURATION:PT1H
X-Robots-Tag:noindex
X-PUBLISHED-TTL:PT1H
BEGIN:VTIMEZONE
TZID:Europe/Berlin
BEGIN:DAYLIGHT
TZOFFSETFROM:+0100
TZOFFSETTO:+0200
TZNAME:CEST
DTSTART:20240331T010000
END:DAYLIGHT
BEGIN:STANDARD
TZOFFSETFROM:+0200
TZOFFSETTO:+0100
TZNAME:CET
DTSTART:20241027T010000
END:STANDARD
BEGIN:DAYLIGHT
TZOFFSETFROM:+0100
TZOFFSETTO:+0200
TZNAME:CEST
DTSTART:20250330T010000
END:DAYLIGHT
BEGIN:STANDARD
TZOFFSETFROM:+0200
TZOFFSETTO:+0100
TZNAME:CET
DTSTART:20251026T010000
END:STANDARD
BEGIN:DAYLIGHT
TZOFFSETFROM:+0100
TZOFFSETTO:+0200
TZNAME:CEST
DTSTART:20260329T010000
END:DAYLIGHT
BEGIN:STANDARD
TZOFFSETFROM:+0200
TZOFFSETTO:+0100
TZNAME:CET
DTSTART:20261025T010000
END:STANDARD
END:VTIMEZONE
BEGIN:VEVENT
DTSTART;TZID=Europe/Berlin:20251102T100000
DTEND;TZID=Europe/Berlin:20251102T110000
DTSTAMP:20260420T065105
CREATED:20250912T194521Z
LAST-MODIFIED:20250912T194521Z
UID:5371-1762077600-1762081200@fambach.eksm.de
SUMMARY:Gottesdienst zum 20. Sonntag nach Trinitatis in Fambach mit Pfarrer Oertel
DESCRIPTION:
URL:https://fambach.eksm.de/veranstaltung/gottesdienst-zum-20-sonntag-nach-trinitatis-in-fambach-mit-pfarrer-oertel/
LOCATION:Jakobuskirche Fambach\, Kirchberg 4\, Fambach\, Thüringen\, 98597\, Deutschland
CATEGORIES:Gottesdienste
END:VEVENT
BEGIN:VEVENT
DTSTART;TZID=Europe/Berlin:20251110T180000
DTEND;TZID=Europe/Berlin:20251110T183000
DTSTAMP:20260420T065105
CREATED:20251103T201254Z
LAST-MODIFIED:20251103T201254Z
UID:5435-1762797600-1762799400@fambach.eksm.de
SUMMARY:Gottesdienst zum Martinstag mit Pfarrer Oertel und anschließendem Laternenumzug
DESCRIPTION:
URL:https://fambach.eksm.de/veranstaltung/gottesdienst-zum-martinstag-mit-pfarrer-oertel-und-anschliessendem-laternenumzug/
LOCATION:Jakobuskirche Fambach\, Kirchberg 4\, Fambach\, Thüringen\, 98597\, Deutschland
CATEGORIES:Familiengottesdienste,Gottesdienste
ATTACH;FMTTYPE=image/jpeg:https://fambach.eksm.de/wp-content/uploads/2022/11/5104F51D-3850-4303-83AA-3E36486080B4.jpeg
END:VEVENT
BEGIN:VEVENT
DTSTART;TZID=Europe/Berlin:20251116T100000
DTEND;TZID=Europe/Berlin:20251116T110000
DTSTAMP:20260420T065105
CREATED:20251103T202331Z
LAST-MODIFIED:20251103T202331Z
UID:5439-1763287200-1763290800@fambach.eksm.de
SUMMARY:Gottesdienst zum Volkstrauertag mit Pfarrer Ihle
DESCRIPTION:
URL:https://fambach.eksm.de/veranstaltung/gottesdienst-zum-volkstrauertag-mit-pfarrer-ihle/
LOCATION:Jakobuskirche Fambach\, Kirchberg 4\, Fambach\, Thüringen\, 98597\, Deutschland
CATEGORIES:Gottesdienste
END:VEVENT
BEGIN:VEVENT
DTSTART;TZID=Europe/Berlin:20251123T100000
DTEND;TZID=Europe/Berlin:20251123T113000
DTSTAMP:20260420T065105
CREATED:20251103T202519Z
LAST-MODIFIED:20251117T190413Z
UID:5441-1763892000-1763897400@fambach.eksm.de
SUMMARY:Abendmahlsgottesdienst zum Ewigkeitssonntag mit dem Kirchenchor in Fambach
DESCRIPTION:
URL:https://fambach.eksm.de/veranstaltung/abendmahlsgottesdienst-zum-ewigkeitssonntag-mit-pfarrer-haerlin/
LOCATION:Jakobuskirche Fambach\, Kirchberg 4\, Fambach\, Thüringen\, 98597\, Deutschland
CATEGORIES:Abendmahlgottesdienste,Gottesdienste
END:VEVENT
BEGIN:VEVENT
DTSTART;TZID=Europe/Berlin:20251130T140000
DTEND;TZID=Europe/Berlin:20251130T150000
DTSTAMP:20260420T065105
CREATED:20251117T190645Z
LAST-MODIFIED:20251117T190645Z
UID:5448-1764511200-1764514800@fambach.eksm.de
SUMMARY:Gottesdienst zum 1. Advent mit Einführung des neuen Kirchenvorstandes
DESCRIPTION:
URL:https://fambach.eksm.de/veranstaltung/gottesdienst-zum-1-advent-mit-einfuehrung-des-neuen-kirchenvorstandes/
LOCATION:Jakobuskirche Fambach\, Kirchberg 4\, Fambach\, Thüringen\, 98597\, Deutschland
CATEGORIES:Gottesdienste
END:VEVENT
END:VCALENDAR