BEGIN:VCALENDAR
VERSION:2.0
PRODID:-//Kirchengemeinde Fambach - ECPv6.15.20//NONSGML v1.0//EN
CALSCALE:GREGORIAN
METHOD:PUBLISH
X-WR-CALNAME:Kirchengemeinde Fambach
X-ORIGINAL-URL:https://fambach.eksm.de
X-WR-CALDESC:Veranstaltungen für Kirchengemeinde Fambach
REFRESH-INTERVAL;VALUE=DURATION:PT1H
X-Robots-Tag:noindex
X-PUBLISHED-TTL:PT1H
BEGIN:VTIMEZONE
TZID:Europe/Berlin
BEGIN:DAYLIGHT
TZOFFSETFROM:+0100
TZOFFSETTO:+0200
TZNAME:CEST
DTSTART:20230326T010000
END:DAYLIGHT
BEGIN:STANDARD
TZOFFSETFROM:+0200
TZOFFSETTO:+0100
TZNAME:CET
DTSTART:20231029T010000
END:STANDARD
BEGIN:DAYLIGHT
TZOFFSETFROM:+0100
TZOFFSETTO:+0200
TZNAME:CEST
DTSTART:20240331T010000
END:DAYLIGHT
BEGIN:STANDARD
TZOFFSETFROM:+0200
TZOFFSETTO:+0100
TZNAME:CET
DTSTART:20241027T010000
END:STANDARD
BEGIN:DAYLIGHT
TZOFFSETFROM:+0100
TZOFFSETTO:+0200
TZNAME:CEST
DTSTART:20250330T010000
END:DAYLIGHT
BEGIN:STANDARD
TZOFFSETFROM:+0200
TZOFFSETTO:+0100
TZNAME:CET
DTSTART:20251026T010000
END:STANDARD
END:VTIMEZONE
BEGIN:VEVENT
DTSTART;TZID=Europe/Berlin:20241214T183000
DTEND;TZID=Europe/Berlin:20241214T200000
DTSTAMP:20260419T193106
CREATED:20241108T193548Z
LAST-MODIFIED:20241206T151546Z
UID:4872-1734201000-1734206400@fambach.eksm.de
SUMMARY:Traditionelles Weihnachtskonzert zum 2. Advent in Fambach
DESCRIPTION:Die Famberg-Musikanten\, der Fambacher Frauenchor und der Kirchenchor geben im Advent wieder gemeinsam ein Konzert. Dazu heißen wir herzlich willkommen in der Jakobuskirche am Samstag\, 14. Dezember\, um 17 Uhr. Auch der Orchesternachwuchs tritt auf.\n\nDaneben stellen wir unter Leitung des Chorleiters Damian Poloczek erneut einen Projekt-Kinderchor zusammen. Geprobt wird ab 14. November jeden Donnerstag\, jeweils von 17:30 bis 18:30 Uhr.\n\n\nKarten können ab sofort im Gemeindeamt Fambach oder an der Abendkasse erworben werden.
URL:https://fambach.eksm.de/veranstaltung/traditionelles-adventskonzert-zum-2-advent-in-fambach/
LOCATION:Jakobuskirche Fambach\, Kirchberg 4\, Fambach\, Thüringen\, 98597\, Deutschland
CATEGORIES:Konzerte
ATTACH;FMTTYPE=image/jpeg:https://fambach.eksm.de/wp-content/uploads/2024/12/468391741_17979633086790476_1114313265943574054_n.jpg
END:VEVENT
END:VCALENDAR