BEGIN:VCALENDAR
VERSION:2.0
PRODID:-//Kirchengemeinde Fambach - ECPv6.15.20//NONSGML v1.0//EN
CALSCALE:GREGORIAN
METHOD:PUBLISH
X-ORIGINAL-URL:https://fambach.eksm.de
X-WR-CALDESC:Veranstaltungen für Kirchengemeinde Fambach
REFRESH-INTERVAL;VALUE=DURATION:PT1H
X-Robots-Tag:noindex
X-PUBLISHED-TTL:PT1H
BEGIN:VTIMEZONE
TZID:Europe/Berlin
BEGIN:DAYLIGHT
TZOFFSETFROM:+0100
TZOFFSETTO:+0200
TZNAME:CEST
DTSTART:20240331T010000
END:DAYLIGHT
BEGIN:STANDARD
TZOFFSETFROM:+0200
TZOFFSETTO:+0100
TZNAME:CET
DTSTART:20241027T010000
END:STANDARD
BEGIN:DAYLIGHT
TZOFFSETFROM:+0100
TZOFFSETTO:+0200
TZNAME:CEST
DTSTART:20250330T010000
END:DAYLIGHT
BEGIN:STANDARD
TZOFFSETFROM:+0200
TZOFFSETTO:+0100
TZNAME:CET
DTSTART:20251026T010000
END:STANDARD
BEGIN:DAYLIGHT
TZOFFSETFROM:+0100
TZOFFSETTO:+0200
TZNAME:CEST
DTSTART:20260329T010000
END:DAYLIGHT
BEGIN:STANDARD
TZOFFSETFROM:+0200
TZOFFSETTO:+0100
TZNAME:CET
DTSTART:20261025T010000
END:STANDARD
END:VTIMEZONE
BEGIN:VEVENT
DTSTART;TZID=Europe/Berlin:20250601T170000
DTEND;TZID=Europe/Berlin:20250601T190000
DTSTAMP:20260419T224353
CREATED:20250410T151343Z
LAST-MODIFIED:20250410T151343Z
UID:5272-1748797200-1748804400@fambach.eksm.de
SUMMARY:Sommermusik mit dem Kirchenchor
DESCRIPTION:Am Sonntag\, 1. Juni\, laden wir herzlich in der Jakobuskirche ein. Dort gibt der Kirchenchor ein Konzert: „Sommermusik“ unter Leitung von Kantor Damian Poloczek und mit Beteiligung des Steinbacher Chors. Um 17 Uhr geht es los.
URL:https://fambach.eksm.de/veranstaltung/sommermusik-mit-dem-kirchenchor/
LOCATION:Jakobuskirche Fambach\, Kirchberg 4\, Fambach\, Thüringen\, 98597\, Deutschland
CATEGORIES:Konzerte
END:VEVENT
BEGIN:VEVENT
DTSTART;VALUE=DATE:20250613
DTEND;VALUE=DATE:20250614
DTSTAMP:20260419T224353
CREATED:20250110T190654Z
LAST-MODIFIED:20250110T190654Z
UID:5025-1749772800-1749859199@fambach.eksm.de
SUMMARY:Sommerfest des Kindergartens
DESCRIPTION:
URL:https://fambach.eksm.de/veranstaltung/sommerfest-des-kindergartens/
LOCATION:Kindergarten Katharinenheim Fambach\, Schulweg 20\, Fambach\, 98597\, Germany
CATEGORIES:Termine & Veranstaltungen des Kindergartens
END:VEVENT
BEGIN:VEVENT
DTSTART;TZID=Europe/Berlin:20250622T100000
DTEND;TZID=Europe/Berlin:20250622T113000
DTSTAMP:20260419T224353
CREATED:20250617T174725Z
LAST-MODIFIED:20250617T174725Z
UID:5287-1750586400-1750591800@fambach.eksm.de
SUMMARY:Taufgottesdienst zum 1. Sonntag nach Trinitatis in Fambach
DESCRIPTION:
URL:https://fambach.eksm.de/veranstaltung/taufgottesdienst-zum-1-sonntag-nach-trinitatis-in-fambach/
LOCATION:Jakobuskirche Fambach\, Kirchberg 4\, Fambach\, Thüringen\, 98597\, Deutschland
CATEGORIES:Gottesdienste,Taufe
END:VEVENT
BEGIN:VEVENT
DTSTART;TZID=Europe/Berlin:20250622T180000
DTEND;TZID=Europe/Berlin:20250622T200000
DTSTAMP:20260419T224353
CREATED:20250617T180625Z
LAST-MODIFIED:20250617T181426Z
UID:5303-1750615200-1750622400@fambach.eksm.de
SUMMARY:Sommerkonzert von Autumn Rain mit Unterstützung durch Firestone
DESCRIPTION:
URL:https://fambach.eksm.de/veranstaltung/sommerkonzert-von-autumn-rain-mit-unterstuetzung-durch-firestone/
LOCATION:Jakobuskirche Fambach\, Kirchberg 4\, Fambach\, Thüringen\, 98597\, Deutschland
CATEGORIES:Konzerte
ATTACH;FMTTYPE=image/jpeg:https://fambach.eksm.de/wp-content/uploads/2025/06/WhatsApp-Image-2025-06-17-at-19.37.28-1.jpeg
END:VEVENT
BEGIN:VEVENT
DTSTART;TZID=Europe/Berlin:20250629T100000
DTEND;TZID=Europe/Berlin:20250629T110000
DTSTAMP:20260419T224353
CREATED:20250617T174916Z
LAST-MODIFIED:20250617T174916Z
UID:5289-1751191200-1751194800@fambach.eksm.de
SUMMARY:Gottesdienst zum 2. Sonntag nach Trinitatis in Heßles
DESCRIPTION:
URL:https://fambach.eksm.de/veranstaltung/gottesdienst-zum-2-sonntag-nach-trinitatis-in-hessles/
LOCATION:Simultangebäude Heßles\, Str. der Freundschaft 49\, Fambach OT Heßles\, Thüringen\, 98597\, Deutschland
CATEGORIES:Gottesdienste
END:VEVENT
END:VCALENDAR