BEGIN:VCALENDAR
VERSION:2.0
PRODID:-//Kirchengemeinde Fambach - ECPv6.15.20//NONSGML v1.0//EN
CALSCALE:GREGORIAN
METHOD:PUBLISH
X-ORIGINAL-URL:https://fambach.eksm.de
X-WR-CALDESC:Veranstaltungen für Kirchengemeinde Fambach
REFRESH-INTERVAL;VALUE=DURATION:PT1H
X-Robots-Tag:noindex
X-PUBLISHED-TTL:PT1H
BEGIN:VTIMEZONE
TZID:Europe/Berlin
BEGIN:DAYLIGHT
TZOFFSETFROM:+0100
TZOFFSETTO:+0200
TZNAME:CEST
DTSTART:20240331T010000
END:DAYLIGHT
BEGIN:STANDARD
TZOFFSETFROM:+0200
TZOFFSETTO:+0100
TZNAME:CET
DTSTART:20241027T010000
END:STANDARD
BEGIN:DAYLIGHT
TZOFFSETFROM:+0100
TZOFFSETTO:+0200
TZNAME:CEST
DTSTART:20250330T010000
END:DAYLIGHT
BEGIN:STANDARD
TZOFFSETFROM:+0200
TZOFFSETTO:+0100
TZNAME:CET
DTSTART:20251026T010000
END:STANDARD
BEGIN:DAYLIGHT
TZOFFSETFROM:+0100
TZOFFSETTO:+0200
TZNAME:CEST
DTSTART:20260329T010000
END:DAYLIGHT
BEGIN:STANDARD
TZOFFSETFROM:+0200
TZOFFSETTO:+0100
TZNAME:CET
DTSTART:20261025T010000
END:STANDARD
END:VTIMEZONE
BEGIN:VEVENT
DTSTART;VALUE=DATE:20250502
DTEND;VALUE=DATE:20250503
DTSTAMP:20260421T121136
CREATED:20241117T122716Z
LAST-MODIFIED:20241117T123210Z
UID:4933-1746144000-1746230399@fambach.eksm.de
SUMMARY:Schließtag des Kindergartens am 2. Mai 2025
DESCRIPTION:
URL:https://fambach.eksm.de/veranstaltung/schliesstag-am-2-mai-2025/
LOCATION:Kindergarten Katharinenheim Fambach\, Schulweg 20\, Fambach\, 98597\, Germany
CATEGORIES:Schließzeiten,Termine & Veranstaltungen des Kindergartens
END:VEVENT
BEGIN:VEVENT
DTSTART;TZID=Europe/Berlin:20250504T100000
DTEND;TZID=Europe/Berlin:20250504T110000
DTSTAMP:20260421T121136
CREATED:20250222T192501Z
LAST-MODIFIED:20250222T192501Z
UID:5163-1746352800-1746356400@fambach.eksm.de
SUMMARY:Gottesdienst an Miserikordias Domini in der Jakobuskirche Fambach
DESCRIPTION:
URL:https://fambach.eksm.de/veranstaltung/gottesdienst-an-miserikordias-domini-in-der-jakobuskirche-fambach/
LOCATION:Jakobuskirche Fambach\, Kirchberg 4\, Fambach\, Thüringen\, 98597\, Deutschland
CATEGORIES:Gottesdienste
END:VEVENT
BEGIN:VEVENT
DTSTART;TZID=Europe/Berlin:20250504T100000
DTEND;TZID=Europe/Berlin:20250504T110000
DTSTAMP:20260421T121136
CREATED:20250410T150531Z
LAST-MODIFIED:20250410T150611Z
UID:5263-1746352800-1746356400@fambach.eksm.de
SUMMARY:Lektorinnengottesdienst an Misericordias Domini in der Jakobuskirche Fambach
DESCRIPTION:
URL:https://fambach.eksm.de/veranstaltung/lektorengottesdienst-an-misericordias-domini-in-der-jakobuskirche-fambach/
LOCATION:Jakobuskirche Fambach\, Kirchberg 4\, Fambach\, Thüringen\, 98597\, Deutschland
CATEGORIES:Gottesdienste
END:VEVENT
BEGIN:VEVENT
DTSTART;TZID=Europe/Berlin:20250511T100000
DTEND;TZID=Europe/Berlin:20250511T110000
DTSTAMP:20260421T121136
CREATED:20250410T150735Z
LAST-MODIFIED:20250410T150735Z
UID:5266-1746957600-1746961200@fambach.eksm.de
SUMMARY:Gottesdienst an Jubilate mit Schulpfarrer Härlin in der Jakobuskirche Fambach
DESCRIPTION:
URL:https://fambach.eksm.de/veranstaltung/gottesdienst-an-jubilate-mit-schulpfarrer-haerlin-in-der-jakobuskirche-fambach/
LOCATION:Jakobuskirche Fambach\, Kirchberg 4\, Fambach\, Thüringen\, 98597\, Deutschland
CATEGORIES:Gottesdienste
END:VEVENT
BEGIN:VEVENT
DTSTART;TZID=Europe/Berlin:20250518T100000
DTEND;TZID=Europe/Berlin:20250518T110000
DTSTAMP:20260421T121136
CREATED:20250410T150911Z
LAST-MODIFIED:20250410T150911Z
UID:5268-1747562400-1747566000@fambach.eksm.de
SUMMARY:Gottesdienst an Kantate mit Pfarrer i. R. Schulte in der Jakobuskirche Fambach
DESCRIPTION:
URL:https://fambach.eksm.de/veranstaltung/gottesdienst-an-kantate-mit-pfarrer-i-r-schulte-in-der-jakobuskirche-fambach/
LOCATION:Jakobuskirche Fambach\, Kirchberg 4\, Fambach\, Thüringen\, 98597\, Deutschland
CATEGORIES:Gottesdienste
END:VEVENT
BEGIN:VEVENT
DTSTART;TZID=Europe/Berlin:20250525T100000
DTEND;TZID=Europe/Berlin:20250525T110000
DTSTAMP:20260421T121136
CREATED:20250410T151045Z
LAST-MODIFIED:20250410T151621Z
UID:5270-1748167200-1748170800@fambach.eksm.de
SUMMARY:Gottesdienst an Rogate im Simultangebäude Heßles
DESCRIPTION:
URL:https://fambach.eksm.de/veranstaltung/gottesdienst-an-rogate-im-simultangebaeude-hessles/
LOCATION:Simultangebäude Heßles\, Str. der Freundschaft 49\, Fambach OT Heßles\, Thüringen\, 98597\, Deutschland
CATEGORIES:Gottesdienste
END:VEVENT
BEGIN:VEVENT
DTSTART;VALUE=DATE:20250530
DTEND;VALUE=DATE:20250531
DTSTAMP:20260421T121136
CREATED:20241117T123348Z
LAST-MODIFIED:20241117T123348Z
UID:4951-1748563200-1748649599@fambach.eksm.de
SUMMARY:Schließtag des Kindergartens nach Himmelfahrt 2025
DESCRIPTION:
URL:https://fambach.eksm.de/veranstaltung/schliesstag-des-kindergartens-nach-himmelfahrt-2025/
LOCATION:Kindergarten Katharinenheim Fambach\, Schulweg 20\, Fambach\, 98597\, Germany
CATEGORIES:Schließzeiten,Termine & Veranstaltungen des Kindergartens
END:VEVENT
END:VCALENDAR