BEGIN:VCALENDAR
VERSION:2.0
PRODID:-//Kirchengemeinde Fambach - ECPv6.15.20//NONSGML v1.0//EN
CALSCALE:GREGORIAN
METHOD:PUBLISH
X-WR-CALNAME:Kirchengemeinde Fambach
X-ORIGINAL-URL:https://fambach.eksm.de
X-WR-CALDESC:Veranstaltungen für Kirchengemeinde Fambach
REFRESH-INTERVAL;VALUE=DURATION:PT1H
X-Robots-Tag:noindex
X-PUBLISHED-TTL:PT1H
BEGIN:VTIMEZONE
TZID:Europe/Berlin
BEGIN:DAYLIGHT
TZOFFSETFROM:+0100
TZOFFSETTO:+0200
TZNAME:CEST
DTSTART:20230326T010000
END:DAYLIGHT
BEGIN:STANDARD
TZOFFSETFROM:+0200
TZOFFSETTO:+0100
TZNAME:CET
DTSTART:20231029T010000
END:STANDARD
BEGIN:DAYLIGHT
TZOFFSETFROM:+0100
TZOFFSETTO:+0200
TZNAME:CEST
DTSTART:20240331T010000
END:DAYLIGHT
BEGIN:STANDARD
TZOFFSETFROM:+0200
TZOFFSETTO:+0100
TZNAME:CET
DTSTART:20241027T010000
END:STANDARD
BEGIN:DAYLIGHT
TZOFFSETFROM:+0100
TZOFFSETTO:+0200
TZNAME:CEST
DTSTART:20250330T010000
END:DAYLIGHT
BEGIN:STANDARD
TZOFFSETFROM:+0200
TZOFFSETTO:+0100
TZNAME:CET
DTSTART:20251026T010000
END:STANDARD
BEGIN:DAYLIGHT
TZOFFSETFROM:+0100
TZOFFSETTO:+0200
TZNAME:CEST
DTSTART:20260329T010000
END:DAYLIGHT
BEGIN:STANDARD
TZOFFSETFROM:+0200
TZOFFSETTO:+0100
TZNAME:CET
DTSTART:20261025T010000
END:STANDARD
END:VTIMEZONE
BEGIN:VEVENT
DTSTART;TZID=Europe/Berlin:20241201T140000
DTEND;TZID=Europe/Berlin:20241201T150000
DTSTAMP:20260421T223428
CREATED:20241107T181516Z
LAST-MODIFIED:20241107T181517Z
UID:4852-1733061600-1733065200@fambach.eksm.de
SUMMARY:Mitmachkirche: Familiengottesdienst am 1. Advent in Fambach
DESCRIPTION:Besonders für (junge) Familien ist das Sonntagsprogramm am Ersten Advent gedacht: Nach einer kurzen Andacht mit Kinderprogramm um 14 Uhr laden wir Sie herzlich ein\, bei einer Tasse Kaffee zum Gemeindegespräch zu bleiben. Es geht dabei um Fragen\, die die Zukunft der Kirchengemeinde betreffen (etwa das Gemeindehaus sowie die Kirchenvorstandswahl 2025). Je mehr mitdenken und -beraten\, desto besser ist es. Daher: Kommen Sie gerne dazu!
URL:https://fambach.eksm.de/veranstaltung/mitmachkirche-familiengottesdienst-am-1-advent-in-fambach/
LOCATION:Jakobuskirche Fambach\, Kirchberg 4\, Fambach\, Thüringen\, 98597\, Deutschland
CATEGORIES:Familiengottesdienste,Gottesdienste
END:VEVENT
BEGIN:VEVENT
DTSTART;TZID=Europe/Berlin:20241207T140000
DTEND;TZID=Europe/Berlin:20241207T170000
DTSTAMP:20260421T223428
CREATED:20241108T192632Z
LAST-MODIFIED:20241108T192912Z
UID:4869-1733580000-1733590800@fambach.eksm.de
SUMMARY:Seniorenadventsfeier im Rosengarten in Fambach
DESCRIPTION:Kirche und Kommune laden auch in diesem Jahr wieder gemeinsam zum Adventsnachmittag ein. Im Rosengarten hält Pfarrerin Reichardt-Hahn eine Andacht; bei Kaffee und Kuchen musiziert dort der Nachwuchs der Famberg-Musikanten. Herzliche Einladung für Samstag\, 7. Dezember\, um 14 Uhr.
URL:https://fambach.eksm.de/veranstaltung/seniorenadventsfeier-im-rosengarten-in-fambach/
LOCATION:Bürgerhaus Rosengarten\, Karl-Marx-Straße 35\, Fambach\, 98597\, Germany
CATEGORIES:Andachten
END:VEVENT
BEGIN:VEVENT
DTSTART;TZID=Europe/Berlin:20241214T183000
DTEND;TZID=Europe/Berlin:20241214T200000
DTSTAMP:20260421T223428
CREATED:20241108T193548Z
LAST-MODIFIED:20241206T151546Z
UID:4872-1734201000-1734206400@fambach.eksm.de
SUMMARY:Traditionelles Weihnachtskonzert zum 2. Advent in Fambach
DESCRIPTION:Die Famberg-Musikanten\, der Fambacher Frauenchor und der Kirchenchor geben im Advent wieder gemeinsam ein Konzert. Dazu heißen wir herzlich willkommen in der Jakobuskirche am Samstag\, 14. Dezember\, um 17 Uhr. Auch der Orchesternachwuchs tritt auf.\n\nDaneben stellen wir unter Leitung des Chorleiters Damian Poloczek erneut einen Projekt-Kinderchor zusammen. Geprobt wird ab 14. November jeden Donnerstag\, jeweils von 17:30 bis 18:30 Uhr.\n\n\nKarten können ab sofort im Gemeindeamt Fambach oder an der Abendkasse erworben werden.
URL:https://fambach.eksm.de/veranstaltung/traditionelles-adventskonzert-zum-2-advent-in-fambach/
LOCATION:Jakobuskirche Fambach\, Kirchberg 4\, Fambach\, Thüringen\, 98597\, Deutschland
CATEGORIES:Konzerte
ATTACH;FMTTYPE=image/jpeg:https://fambach.eksm.de/wp-content/uploads/2024/12/468391741_17979633086790476_1114313265943574054_n.jpg
END:VEVENT
BEGIN:VEVENT
DTSTART;TZID=Europe/Berlin:20241218T150000
DTEND;TZID=Europe/Berlin:20241218T160000
DTSTAMP:20260421T223428
CREATED:20241117T121854Z
LAST-MODIFIED:20241117T121854Z
UID:4926-1734534000-1734537600@fambach.eksm.de
SUMMARY:Aufführung des Krippenspiels der Vorschulgruppe
DESCRIPTION:Alle Kinder des Kindergartens mit ihren Eltern und Familien sind hierzu herzlich eingeladen\nAchtung: Der Kindergarten schließt an diesem Tag bereits um 14.30 Uhr.
URL:https://fambach.eksm.de/veranstaltung/auffuehrung-des-krippenspiels-der-vorschulgruppe/
LOCATION:Jakobuskirche Fambach\, Kirchberg 4\, Fambach\, Thüringen\, 98597\, Deutschland
CATEGORIES:Krippenspiel,Termine & Veranstaltungen des Kindergartens
END:VEVENT
BEGIN:VEVENT
DTSTART;TZID=Europe/Berlin:20241222T170000
DTEND;TZID=Europe/Berlin:20241222T180000
DTSTAMP:20260421T223428
CREATED:20241108T193805Z
LAST-MODIFIED:20241108T193805Z
UID:4874-1734886800-1734890400@fambach.eksm.de
SUMMARY:Abendandacht zum 4. Advent in Fambach
DESCRIPTION:
URL:https://fambach.eksm.de/veranstaltung/abendandacht-zum-4-advent-in-fambach/
LOCATION:Jakobuskirche Fambach\, Kirchberg 4\, Fambach\, Thüringen\, 98597\, Deutschland
CATEGORIES:Andachten
END:VEVENT
BEGIN:VEVENT
DTSTART;VALUE=DATE:20241223
DTEND;VALUE=DATE:20250104
DTSTAMP:20260421T223428
CREATED:20241116T200148Z
LAST-MODIFIED:20241116T200148Z
UID:4902-1734912000-1735948799@fambach.eksm.de
SUMMARY:Schließzeit an Weihnachten 2024 und zum Jahreswechsel
DESCRIPTION:
URL:https://fambach.eksm.de/veranstaltung/schliesszeit-an-weihnachten-2024-und-zum-jahreswechsel/
LOCATION:Kindergarten Katharinenheim Fambach\, Schulweg 20\, Fambach\, 98597\, Germany
CATEGORIES:Schließzeiten,Termine & Veranstaltungen des Kindergartens
END:VEVENT
BEGIN:VEVENT
DTSTART;TZID=Europe/Berlin:20241224T153000
DTEND;TZID=Europe/Berlin:20241224T163000
DTSTAMP:20260421T223428
CREATED:20241108T193943Z
LAST-MODIFIED:20241108T193943Z
UID:4876-1735054200-1735057800@fambach.eksm.de
SUMMARY:Krippenspiel zum Heiligen Abend in Heßles
DESCRIPTION:
URL:https://fambach.eksm.de/veranstaltung/krippenspiel-zum-heiligen-abend-in-hessles-2/
LOCATION:Simultangebäude Heßles\, Str. der Freundschaft 49\, Fambach OT Heßles\, Thüringen\, 98597\, Deutschland
CATEGORIES:Gottesdienste,Krippenspiel
END:VEVENT
BEGIN:VEVENT
DTSTART;TZID=Europe/Berlin:20241224T170000
DTEND;TZID=Europe/Berlin:20241224T180000
DTSTAMP:20260421T223428
CREATED:20241108T194048Z
LAST-MODIFIED:20241108T194048Z
UID:4878-1735059600-1735063200@fambach.eksm.de
SUMMARY:Krippenspiel zum Heiligen Abend in Fambach
DESCRIPTION:
URL:https://fambach.eksm.de/veranstaltung/krippenspiel-zum-heiligen-abend-in-fambach-2/
LOCATION:Jakobuskirche Fambach\, Kirchberg 4\, Fambach\, Thüringen\, 98597\, Deutschland
CATEGORIES:Gottesdienste,Krippenspiel
END:VEVENT
BEGIN:VEVENT
DTSTART;TZID=Europe/Berlin:20241224T183000
DTEND;TZID=Europe/Berlin:20241224T193000
DTSTAMP:20260421T223428
CREATED:20241220T182544Z
LAST-MODIFIED:20241220T182544Z
UID:5017-1735065000-1735068600@fambach.eksm.de
SUMMARY:Weihnachten für alle - Gemütliches Zusammensein am Heiligen Abend
DESCRIPTION:Die Gemeinde Fambach\, die evangelische Kirchgemeinde sowie die Linedancer „Black & White“ laden herzlich zum traditionellen Abendessen und gemütlichen Zusammensein am Heiligen Abend im Rosengarten ein. \nUm 18:30 Uhr geht´s los. Die Teilnahme ist frei mit Kasse des Vertrauens. \nUm Anmeldung bei Gabi Kreußel (Tel: 0152/38930107) wird gebeten. \nWeihnachten für alle am 24.12. um 18:30 Uhr im Rosengarten in Fambach
URL:https://fambach.eksm.de/veranstaltung/weihnachten-fuer-alle-gemuetliches-zusammensein-am-heiligen-abend/
LOCATION:Bürgerhaus Rosengarten\, Karl-Marx-Straße 35\, Fambach\, 98597\, Germany
CATEGORIES:Feierstunde
END:VEVENT
BEGIN:VEVENT
DTSTART;TZID=Europe/Berlin:20241225T100000
DTEND;TZID=Europe/Berlin:20241225T110000
DTSTAMP:20260421T223428
CREATED:20241108T194723Z
LAST-MODIFIED:20241108T194823Z
UID:4884-1735120800-1735124400@fambach.eksm.de
SUMMARY:Gottesdienst zum 1. Christtag mit Kirchenchor
DESCRIPTION:
URL:https://fambach.eksm.de/veranstaltung/gottesdienst-zum-ersten-christtag-mit-kirchenchor/
LOCATION:Jakobuskirche Fambach\, Kirchberg 4\, Fambach\, Thüringen\, 98597\, Deutschland
CATEGORIES:Gottesdienste
END:VEVENT
BEGIN:VEVENT
DTSTART;TZID=Europe/Berlin:20241226T170000
DTEND;TZID=Europe/Berlin:20241226T180000
DTSTAMP:20260421T223428
CREATED:20241108T194438Z
LAST-MODIFIED:20241108T194501Z
UID:4882-1735232400-1735236000@fambach.eksm.de
SUMMARY:Kirchspiel-Gottesdienst zum 2. Christtag in Herrenbreitungen
DESCRIPTION:
URL:https://fambach.eksm.de/veranstaltung/kirchspiel-gottesdienst-zum-2-christtag-in-herrenbreitungen/
LOCATION:Michaelskirche Herrenbreitungen\, Bei der Kirche 1a\, Breitungen\, 98597
CATEGORIES:Gottesdienste
END:VEVENT
BEGIN:VEVENT
DTSTART;TZID=Europe/Berlin:20241229T170000
DTEND;TZID=Europe/Berlin:20241229T190000
DTSTAMP:20260421T223428
CREATED:20241117T131109Z
LAST-MODIFIED:20241117T131109Z
UID:4976-1735491600-1735498800@fambach.eksm.de
SUMMARY:Weihnachtsoratorium in der Stadtkirche St. Georg in Schmalkalden
DESCRIPTION:Am Sonntag nach Weihnachten\, den 29.12.2024\, heißt es um 17 Uhr in der Stadtkirche St. Georg Schmalkalden wieder „Jauchzet\, frohlocket!“. Der Dekanatschor Schmalkalden und die Mitteldeutsche Barock Compagney führen unter der Leitung von Bezirkskantor Andreas Conrad die Kantaten I‒III und V des Weihnachtsoratoriums von J. S. Bach auf. Als Solisten singen vom Staatstheater Meiningen Dorothea Böhm\, Sopran\, Marianne Schechtel\, Alt\, und Tobias Glagau\, Tenor\, sowie aus Detmold der Konzertsänger und Gesangspädagoge Florian Franke\, Bass.   \nKarten kosten in zwei Kategorien 20\,- und 15\,- Euro (ermäßigt 15\,- und 10\,- Euro). Ermäßigungen gelten für Schüler\, Azubis und Studierende\, Menschen\, die Bürgergeld empfangen\, sowie Geflüchtete. Schwerbehinderte erhalten eine Freikarte für eine Begleitperson. Kinder unter 12 Jahren und Konfirmand*innen haben ebenfalls freien Eintritt. Im Vorverkauf gibt es Karten im Gemeindebüro Kirchhof 3 (Sekretariat: Katrin Metz Tel. 03683/402471) sowie in der Tourist Information Schmalkalden (Tel. 03683/667500). 
URL:https://fambach.eksm.de/veranstaltung/weihnachtsoratorium-in-der-stadtkirche-st-georg-in-schmalkalden/
LOCATION:Stadtkirche St. Georg Schmalkalden\, Kirchhof\, Schmalkalden\, 98574
CATEGORIES:Gottesdienste,Konzerte
END:VEVENT
BEGIN:VEVENT
DTSTART;TZID=Europe/Berlin:20241231T153000
DTEND;TZID=Europe/Berlin:20241231T163000
DTSTAMP:20260421T223428
CREATED:20241117T191605Z
LAST-MODIFIED:20241117T191605Z
UID:4979-1735659000-1735662600@fambach.eksm.de
SUMMARY:Gottesdienst zum Altjahresabend in Heßles
DESCRIPTION:
URL:https://fambach.eksm.de/veranstaltung/gottesdienst-zum-altjahresabend-in-hessles/
LOCATION:Simultangebäude Heßles\, Str. der Freundschaft 49\, Fambach OT Heßles\, Thüringen\, 98597\, Deutschland
CATEGORIES:Gottesdienste
END:VEVENT
BEGIN:VEVENT
DTSTART;TZID=Europe/Berlin:20241231T170000
DTEND;TZID=Europe/Berlin:20241231T180000
DTSTAMP:20260421T223428
CREATED:20241117T191700Z
LAST-MODIFIED:20241117T191700Z
UID:4981-1735664400-1735668000@fambach.eksm.de
SUMMARY:Gottesdienst zum Altjahresabend in Fambach
DESCRIPTION:
URL:https://fambach.eksm.de/veranstaltung/gottesdienst-zum-altjahresabend-in-fambach-2/
LOCATION:Jakobuskirche Fambach\, Kirchberg 4\, Fambach\, Thüringen\, 98597\, Deutschland
CATEGORIES:Gottesdienste
END:VEVENT
END:VCALENDAR