BEGIN:VCALENDAR
VERSION:2.0
PRODID:-//Kirchengemeinde Fambach - ECPv6.15.20//NONSGML v1.0//EN
CALSCALE:GREGORIAN
METHOD:PUBLISH
X-WR-CALNAME:Kirchengemeinde Fambach
X-ORIGINAL-URL:https://fambach.eksm.de
X-WR-CALDESC:Veranstaltungen für Kirchengemeinde Fambach
REFRESH-INTERVAL;VALUE=DURATION:PT1H
X-Robots-Tag:noindex
X-PUBLISHED-TTL:PT1H
BEGIN:VTIMEZONE
TZID:Europe/Berlin
BEGIN:DAYLIGHT
TZOFFSETFROM:+0100
TZOFFSETTO:+0200
TZNAME:CEST
DTSTART:20230326T010000
END:DAYLIGHT
BEGIN:STANDARD
TZOFFSETFROM:+0200
TZOFFSETTO:+0100
TZNAME:CET
DTSTART:20231029T010000
END:STANDARD
BEGIN:DAYLIGHT
TZOFFSETFROM:+0100
TZOFFSETTO:+0200
TZNAME:CEST
DTSTART:20240331T010000
END:DAYLIGHT
BEGIN:STANDARD
TZOFFSETFROM:+0200
TZOFFSETTO:+0100
TZNAME:CET
DTSTART:20241027T010000
END:STANDARD
BEGIN:DAYLIGHT
TZOFFSETFROM:+0100
TZOFFSETTO:+0200
TZNAME:CEST
DTSTART:20250330T010000
END:DAYLIGHT
BEGIN:STANDARD
TZOFFSETFROM:+0200
TZOFFSETTO:+0100
TZNAME:CET
DTSTART:20251026T010000
END:STANDARD
END:VTIMEZONE
BEGIN:VEVENT
DTSTART;TZID=Europe/Berlin:20241103T100000
DTEND;TZID=Europe/Berlin:20241103T110000
DTSTAMP:20260421T223427
CREATED:20240821T181952Z
LAST-MODIFIED:20240821T181952Z
UID:4567-1730628000-1730631600@fambach.eksm.de
SUMMARY:Gottesdienst zum 23. Sonntag nach Trinitatis in Fambach
DESCRIPTION:
URL:https://fambach.eksm.de/veranstaltung/gottesdienst-zum-23-sonntag-nach-trinitatis-in-fambach/
LOCATION:Jakobuskirche Fambach\, Kirchberg 4\, Fambach\, Thüringen\, 98597\, Deutschland
CATEGORIES:Gottesdienste
END:VEVENT
BEGIN:VEVENT
DTSTART;TZID=Europe/Berlin:20241110T170000
DTEND;TZID=Europe/Berlin:20241110T190000
DTSTAMP:20260421T223427
CREATED:20241030T193415Z
LAST-MODIFIED:20241107T184837Z
UID:4841-1731258000-1731265200@fambach.eksm.de
SUMMARY:Andacht und Laternenumzug zum Martinstag
DESCRIPTION:„Ich geh’ mit meiner Laterne …“ – wir gehen mit unseren Laternen wieder den Weg von der Jakobuskirche zur Feuerwehr\, wo Getränke und Imbiss warten. Hüpfende Lichter tragen wir so durch die Nachtluft. Und wer in der Zeit um den Martinstag hochschaut zum Kirchturm\, kann auch dort besonderes Licht entdecken. Die Andacht am Sonntag\, 10. November\, beginnt um 17 Uhr in der Jakobuskirche.
URL:https://fambach.eksm.de/veranstaltung/andacht-und-laternenumzug-zum-martinstag/
LOCATION:Jakobuskirche Fambach\, Kirchberg 4\, Fambach\, Thüringen\, 98597\, Deutschland
CATEGORIES:Andachten
ATTACH;FMTTYPE=image/png:https://fambach.eksm.de/wp-content/uploads/2024/10/mrh_plakat-martinsandacht_20241110.png
END:VEVENT
BEGIN:VEVENT
DTSTART;TZID=Europe/Berlin:20241117T100000
DTEND;TZID=Europe/Berlin:20241117T110000
DTSTAMP:20260421T223427
CREATED:20241107T180218Z
LAST-MODIFIED:20241107T180218Z
UID:4844-1731837600-1731841200@fambach.eksm.de
SUMMARY:Gottesdienst zum Volkstrauertag in Fambach
DESCRIPTION:
URL:https://fambach.eksm.de/veranstaltung/gottesdienst-zum-volkstrauertag-in-fambach/
LOCATION:Jakobuskirche Fambach\, Kirchberg 4\, Fambach\, Thüringen\, 98597\, Deutschland
CATEGORIES:Gottesdienste
END:VEVENT
BEGIN:VEVENT
DTSTART;TZID=Europe/Berlin:20241120T183000
DTEND;TZID=Europe/Berlin:20241120T190000
DTSTAMP:20260421T223427
CREATED:20241107T180354Z
LAST-MODIFIED:20241107T182302Z
UID:4846-1732127400-1732129200@fambach.eksm.de
SUMMARY:Andacht zum Buß- und Bettag in Fambach
DESCRIPTION:„Fraglich – zögerlich – hoffentlich“ – so lautet das Thema des diesjährigen Buß- und Bettags. Um Lautstärke geht es dabei tatsächlich und darum\, welche Stimmung gerade die anderen übertönt. Wenn im Kopf ein Mischpult stünde mit Schiebereglern – wie könnte es dann gelingen\, die Hoffnungstöne höher zu regeln? Überlegen Sie mit am Abend des Buß- und Bettags\, 20. November\, um 18.30 Uhr in der Jakobuskirche.
URL:https://fambach.eksm.de/veranstaltung/andacht-zum-buss-und-bettag-in-fambach/
LOCATION:Jakobuskirche Fambach\, Kirchberg 4\, Fambach\, Thüringen\, 98597\, Deutschland
CATEGORIES:Andachten
ATTACH;FMTTYPE=image/jpeg:https://fambach.eksm.de/wp-content/uploads/2024/11/117680_busstag_quer_rgb.jpg
END:VEVENT
BEGIN:VEVENT
DTSTART;TZID=Europe/Berlin:20241124T100000
DTEND;TZID=Europe/Berlin:20241124T110000
DTSTAMP:20260421T223427
CREATED:20241107T180532Z
LAST-MODIFIED:20241115T184044Z
UID:4848-1732442400-1732446000@fambach.eksm.de
SUMMARY:Abendmahlsgottesdienst mit Kirchenchor zum Ewigkeitssonntag in Fambach
DESCRIPTION:
URL:https://fambach.eksm.de/veranstaltung/abendmahlsgottesdienst-zum-ewigkeitssonntag-in-fambach/
LOCATION:Jakobuskirche Fambach\, Kirchberg 4\, Fambach\, Thüringen\, 98597\, Deutschland
CATEGORIES:Abendmahlgottesdienste,Gottesdienste
END:VEVENT
BEGIN:VEVENT
DTSTART;TZID=Europe/Berlin:20241124T140000
DTEND;TZID=Europe/Berlin:20241124T150000
DTSTAMP:20260421T223427
CREATED:20241107T180904Z
LAST-MODIFIED:20241108T191054Z
UID:4850-1732456800-1732460400@fambach.eksm.de
SUMMARY:Abendmahlsgottesdienst zum Ewigkeitssonntag in Heßles
DESCRIPTION:
URL:https://fambach.eksm.de/veranstaltung/abendmahlsgottesdienst-zum-ewigkeitssonntag-in-hessles/
LOCATION:Simultangebäude Heßles\, Str. der Freundschaft 49\, Fambach OT Heßles\, Thüringen\, 98597\, Deutschland
CATEGORIES:Abendmahlgottesdienste,Gottesdienste
END:VEVENT
BEGIN:VEVENT
DTSTART;TZID=Europe/Berlin:20241127T190000
DTEND;TZID=Europe/Berlin:20241127T203000
DTSTAMP:20260421T223427
CREATED:20241116T200912Z
LAST-MODIFIED:20241116T200921Z
UID:4913-1732734000-1732739400@fambach.eksm.de
SUMMARY:Bastel-Elternabend
DESCRIPTION:Wir freuen uns auf den Bastel-Elternabend. Ein Abend\, an dem wir gemeinsam die Adventskalender für die Kinder in den jeweiligen Gruppen basteln möchten.
URL:https://fambach.eksm.de/veranstaltung/bastel-elternabend/
LOCATION:Kindergarten Katharinenheim Fambach\, Schulweg 20\, Fambach\, 98597\, Germany
CATEGORIES:Termine & Veranstaltungen des Kindergartens
END:VEVENT
BEGIN:VEVENT
DTSTART;TZID=Europe/Berlin:20241130T153000
DTEND;TZID=Europe/Berlin:20241130T190000
DTSTAMP:20260421T223427
CREATED:20241117T121558Z
LAST-MODIFIED:20241117T121558Z
UID:4923-1732980600-1732993200@fambach.eksm.de
SUMMARY:Weihnachtsmarkt auf der Freilichtbühne mit einem Programm des Kindergartens
DESCRIPTION:
URL:https://fambach.eksm.de/veranstaltung/weihnachtsmarkt-auf-der-freilichtbuehne-mit-einem-programm-des-kindergartens/
LOCATION:Freilichtbühne Fambach\, Am Famberg 3\, Fambach\, 98597\, Germany
CATEGORIES:Termine & Veranstaltungen des Kindergartens
END:VEVENT
END:VCALENDAR