BEGIN:VCALENDAR
VERSION:2.0
PRODID:-//Kirchengemeinde Fambach - ECPv6.15.20//NONSGML v1.0//EN
CALSCALE:GREGORIAN
METHOD:PUBLISH
X-ORIGINAL-URL:https://fambach.eksm.de
X-WR-CALDESC:Veranstaltungen für Kirchengemeinde Fambach
REFRESH-INTERVAL;VALUE=DURATION:PT1H
X-Robots-Tag:noindex
X-PUBLISHED-TTL:PT1H
BEGIN:VTIMEZONE
TZID:Europe/Berlin
BEGIN:DAYLIGHT
TZOFFSETFROM:+0100
TZOFFSETTO:+0200
TZNAME:CEST
DTSTART:20230326T010000
END:DAYLIGHT
BEGIN:STANDARD
TZOFFSETFROM:+0200
TZOFFSETTO:+0100
TZNAME:CET
DTSTART:20231029T010000
END:STANDARD
BEGIN:DAYLIGHT
TZOFFSETFROM:+0100
TZOFFSETTO:+0200
TZNAME:CEST
DTSTART:20240331T010000
END:DAYLIGHT
BEGIN:STANDARD
TZOFFSETFROM:+0200
TZOFFSETTO:+0100
TZNAME:CET
DTSTART:20241027T010000
END:STANDARD
BEGIN:DAYLIGHT
TZOFFSETFROM:+0100
TZOFFSETTO:+0200
TZNAME:CEST
DTSTART:20250330T010000
END:DAYLIGHT
BEGIN:STANDARD
TZOFFSETFROM:+0200
TZOFFSETTO:+0100
TZNAME:CET
DTSTART:20251026T010000
END:STANDARD
END:VTIMEZONE
BEGIN:VEVENT
DTSTART;TZID=Europe/Berlin:20241006T100000
DTEND;TZID=Europe/Berlin:20241006T110000
DTSTAMP:20260421T223845
CREATED:20240821T181145Z
LAST-MODIFIED:20241001T084307Z
UID:4556-1728208800-1728212400@fambach.eksm.de
SUMMARY:Erntedank-Gottesdienst inkl. Begrüßung unserer neuen Kindergarten-Leiterin
DESCRIPTION:Wir freuen uns auf einen bunten und musikalischen Gottesdienst\, in dem die Kindergarten-Kinder sowie der Kirchenchor singen und unsere neue Kindergarten-Leiterin Christine Ulbrich begrüßt wird. \nWir freuen uns auf Ihr Kommen! \nWeitere Informationen finden Sie HIER
URL:https://fambach.eksm.de/veranstaltung/erntedank-gottesdienst-in-fambach/
LOCATION:Jakobuskirche Fambach\, Kirchberg 4\, Fambach\, Thüringen\, 98597\, Deutschland
CATEGORIES:Familiengottesdienste,Festgottesdienste,Gottesdienste,Termine & Veranstaltungen des Kindergartens
END:VEVENT
BEGIN:VEVENT
DTSTART;TZID=Europe/Berlin:20241013T100000
DTEND;TZID=Europe/Berlin:20241013T110000
DTSTAMP:20260421T223845
CREATED:20240821T181250Z
LAST-MODIFIED:20240821T181250Z
UID:4558-1728813600-1728817200@fambach.eksm.de
SUMMARY:Gottesdienst zum 20. Sonntag nach Trinitatis in Fambach
DESCRIPTION:
URL:https://fambach.eksm.de/veranstaltung/gottesdienst-zum-20-sonntag-nach-trinitatis-in-fambach/
LOCATION:Jakobuskirche Fambach\, Kirchberg 4\, Fambach\, Thüringen\, 98597\, Deutschland
CATEGORIES:Gottesdienste
END:VEVENT
BEGIN:VEVENT
DTSTART;TZID=Europe/Berlin:20241020T100000
DTEND;TZID=Europe/Berlin:20241020T110000
DTSTAMP:20260421T223845
CREATED:20240821T181430Z
LAST-MODIFIED:20240821T181430Z
UID:4560-1729418400-1729422000@fambach.eksm.de
SUMMARY:Gottesdienst zum 21. Sonntag nach Trinitatis in Heßles
DESCRIPTION:
URL:https://fambach.eksm.de/veranstaltung/gottesdienst-zum-21-sonntag-nach-trinitatis-in-hessles/
LOCATION:Simultangebäude Heßles\, Str. der Freundschaft 49\, Fambach OT Heßles\, Thüringen\, 98597\, Deutschland
CATEGORIES:Gottesdienste
END:VEVENT
BEGIN:VEVENT
DTSTART;TZID=Europe/Berlin:20241027T100000
DTEND;TZID=Europe/Berlin:20241027T110000
DTSTAMP:20260421T223845
CREATED:20240821T181523Z
LAST-MODIFIED:20240821T181523Z
UID:4562-1730023200-1730026800@fambach.eksm.de
SUMMARY:Gottesdienst zum 22. Sonntag nach Trinitatis in Fambach
DESCRIPTION:
URL:https://fambach.eksm.de/veranstaltung/gottesdienst-zum-22-sonntag-nach-trinitatis-in-fambach/
LOCATION:Jakobuskirche Fambach\, Kirchberg 4\, Fambach\, Thüringen\, 98597\, Deutschland
CATEGORIES:Gottesdienste
END:VEVENT
BEGIN:VEVENT
DTSTART;TZID=Europe/Berlin:20241027T170000
DTEND;TZID=Europe/Berlin:20241027T190000
DTSTAMP:20260421T223845
CREATED:20241025T140749Z
LAST-MODIFIED:20241025T140831Z
UID:4759-1730048400-1730055600@fambach.eksm.de
SUMMARY:Konzert: Bläserensemble brassamezzo spielt in der Fambacher Jakobuskirche
DESCRIPTION:Am kommenden Sonntag\, dem 27. Oktober gibt das Blechblasensemble „brassamezzo“ ein Konzert in unserer Jakobuskirche. Mit einem breiten Repertoire vom Barock bis in die Gegenwart kommen dabei vor allem Fans von Johann Sebastian Bach\, Georg Philipp Telemann und deren Zeitgenossen auf ihre Kosten. \nWir freuen uns\, dass Damian Poloczek das Konzert an der Orgel begleitet. Um 17 Uhr geht es los. Der Eintritt ist frei. Spenden kommen dem Ensemble und der Kirchenmusik zugute. \nErleben Sie einen wundervollen musikalischen Abend im feierlichen Ambiente der Fambacher Jakobuskirche. \nWir freuen uns auf Ihr Kommen!
URL:https://fambach.eksm.de/veranstaltung/konzert-blaeserensemble-brassamezzo-spielt-in-der-fambacher-jakobuskirche/
LOCATION:Jakobuskirche Fambach\, Kirchberg 4\, Fambach\, Thüringen\, 98597\, Deutschland
CATEGORIES:Konzerte
ATTACH;FMTTYPE=image/jpeg:https://fambach.eksm.de/wp-content/uploads/2024/10/WhatsApp-Image-2024-10-24-at-08.39.46.jpeg
END:VEVENT
BEGIN:VEVENT
DTSTART;TZID=Europe/Berlin:20241031T103000
DTEND;TZID=Europe/Berlin:20241031T113000
DTSTAMP:20260421T223845
CREATED:20240821T181845Z
LAST-MODIFIED:20240821T181845Z
UID:4564-1730370600-1730374200@fambach.eksm.de
SUMMARY:Reformationsgottesdienst in der Stadtkirche zu Schmalkalden
DESCRIPTION:
URL:https://fambach.eksm.de/veranstaltung/reformationsgottesdienst-in-der-stadtkirche-zu-schmalkalden/
LOCATION:Stadtkirche St. Georg Schmalkalden\, Kirchhof\, Schmalkalden\, 98574
CATEGORIES:Gottesdienste
END:VEVENT
END:VCALENDAR