BEGIN:VCALENDAR
VERSION:2.0
PRODID:-//Kirchengemeinde Fambach - ECPv6.15.20//NONSGML v1.0//EN
CALSCALE:GREGORIAN
METHOD:PUBLISH
X-ORIGINAL-URL:https://fambach.eksm.de
X-WR-CALDESC:Veranstaltungen für Kirchengemeinde Fambach
REFRESH-INTERVAL;VALUE=DURATION:PT1H
X-Robots-Tag:noindex
X-PUBLISHED-TTL:PT1H
BEGIN:VTIMEZONE
TZID:Europe/Berlin
BEGIN:DAYLIGHT
TZOFFSETFROM:+0100
TZOFFSETTO:+0200
TZNAME:CEST
DTSTART:20230326T010000
END:DAYLIGHT
BEGIN:STANDARD
TZOFFSETFROM:+0200
TZOFFSETTO:+0100
TZNAME:CET
DTSTART:20231029T010000
END:STANDARD
BEGIN:DAYLIGHT
TZOFFSETFROM:+0100
TZOFFSETTO:+0200
TZNAME:CEST
DTSTART:20240331T010000
END:DAYLIGHT
BEGIN:STANDARD
TZOFFSETFROM:+0200
TZOFFSETTO:+0100
TZNAME:CET
DTSTART:20241027T010000
END:STANDARD
BEGIN:DAYLIGHT
TZOFFSETFROM:+0100
TZOFFSETTO:+0200
TZNAME:CEST
DTSTART:20250330T010000
END:DAYLIGHT
BEGIN:STANDARD
TZOFFSETFROM:+0200
TZOFFSETTO:+0100
TZNAME:CET
DTSTART:20251026T010000
END:STANDARD
END:VTIMEZONE
BEGIN:VEVENT
DTSTART;TZID=Europe/Berlin:20240901T100000
DTEND;TZID=Europe/Berlin:20240901T110000
DTSTAMP:20260422T001345
CREATED:20240821T180007Z
LAST-MODIFIED:20240821T180007Z
UID:4544-1725184800-1725188400@fambach.eksm.de
SUMMARY:Gottesdienst zum 14. Sonntag nach Trinitatis in Fambach
DESCRIPTION:
URL:https://fambach.eksm.de/veranstaltung/gottesdienst-zum-14-sonntag-nach-trinitatis-in-fambach/
LOCATION:Jakobuskirche Fambach\, Kirchberg 4\, Fambach\, Thüringen\, 98597\, Deutschland
CATEGORIES:Gottesdienste
END:VEVENT
BEGIN:VEVENT
DTSTART;TZID=Europe/Berlin:20240908T100000
DTEND;TZID=Europe/Berlin:20240908T110000
DTSTAMP:20260422T001345
CREATED:20240821T180147Z
LAST-MODIFIED:20240821T180147Z
UID:4546-1725789600-1725793200@fambach.eksm.de
SUMMARY:Gottesdienst zum 15. Sonntag nach Trinitatis in Fambach
DESCRIPTION:
URL:https://fambach.eksm.de/veranstaltung/gottesdienst-zum-15-sonntag-nach-trinitatis-in-fambach/
LOCATION:Jakobuskirche Fambach\, Kirchberg 4\, Fambach\, Thüringen\, 98597\, Deutschland
CATEGORIES:Gottesdienste
END:VEVENT
BEGIN:VEVENT
DTSTART;TZID=Europe/Berlin:20240915T140000
DTEND;TZID=Europe/Berlin:20240915T150000
DTSTAMP:20260422T001345
CREATED:20240821T180319Z
LAST-MODIFIED:20240821T180839Z
UID:4548-1726408800-1726412400@fambach.eksm.de
SUMMARY:Kirmes-Gottesdienst in Fambach
DESCRIPTION:
URL:https://fambach.eksm.de/veranstaltung/kirmes-gottesdienst-in-fambach/
LOCATION:Jakobuskirche Fambach\, Kirchberg 4\, Fambach\, Thüringen\, 98597\, Deutschland
CATEGORIES:Festgottesdienste,Gottesdienste
END:VEVENT
BEGIN:VEVENT
DTSTART;TZID=Europe/Berlin:20240920T150000
DTEND;TZID=Europe/Berlin:20240920T160000
DTSTAMP:20260422T001345
CREATED:20240821T183736Z
LAST-MODIFIED:20240821T183945Z
UID:4569-1726844400-1726848000@fambach.eksm.de
SUMMARY:Singspiel "Elisabeth" mit dem Projekt-Kinderchor
DESCRIPTION:Elisabeth – Wenn Holzwürmer eine Prinzessin zur Freundin haben\nDer Projekt-Kinderchor rund um Kantor Damian Poloczek freut sich auf zahlreiche Besucher am Weltkindertag zum Singspiel für die ganze Familie. Seien Sie herzlich eingeladen! \nAlle Kinder\, die gerne singen\, können gern mitmachen und an den Proben im Vorfeld teilnehmen. \nWeitere Infos dazu gibt es hier >>
URL:https://fambach.eksm.de/veranstaltung/singspiel-elisabeth-mit-dem-projekt-kinderchor/
LOCATION:Jakobuskirche Fambach\, Kirchberg 4\, Fambach\, Thüringen\, 98597\, Deutschland
CATEGORIES:Familiengottesdienste,Gottesdienste
END:VEVENT
BEGIN:VEVENT
DTSTART;TZID=Europe/Berlin:20240922T100000
DTEND;TZID=Europe/Berlin:20240922T110000
DTSTAMP:20260422T001345
CREATED:20240821T180648Z
LAST-MODIFIED:20240821T180824Z
UID:4550-1726999200-1727002800@fambach.eksm.de
SUMMARY:2. Gottesdienst zur Silbernen Konfirmation in Fambach
DESCRIPTION:Vor 25 Jahren hat Pfarrer i. R. Klaus Fischer eine besondere Konfirmation gefeiert: für und mit Menschen mit Behinderung. Mit einigen von ihnen werden wir am 22. September vormittags in der Jakobuskirche das Silberne Jubiläum begehen.
URL:https://fambach.eksm.de/veranstaltung/2-gottesdienst-zur-silbernen-konfirmation-in-fambach/
LOCATION:Jakobuskirche Fambach\, Kirchberg 4\, Fambach\, Thüringen\, 98597\, Deutschland
CATEGORIES:Festgottesdienste,Gottesdienste
END:VEVENT
BEGIN:VEVENT
DTSTART;TZID=Europe/Berlin:20240922T170000
DTEND;TZID=Europe/Berlin:20240922T180000
DTSTAMP:20260422T001345
CREATED:20240821T180801Z
LAST-MODIFIED:20240821T180801Z
UID:4552-1727024400-1727028000@fambach.eksm.de
SUMMARY:Gottesdienst zum 17. Sonntag nach Trinitatis
DESCRIPTION:
URL:https://fambach.eksm.de/veranstaltung/gottesdienst-zum-17-sonntag-nach-trinitatis/
LOCATION:Simultangebäude Heßles\, Str. der Freundschaft 49\, Fambach OT Heßles\, Thüringen\, 98597\, Deutschland
CATEGORIES:Gottesdienste
END:VEVENT
BEGIN:VEVENT
DTSTART;TZID=Europe/Berlin:20240929T100000
DTEND;TZID=Europe/Berlin:20240929T110000
DTSTAMP:20260422T001345
CREATED:20240821T181004Z
LAST-MODIFIED:20240821T181004Z
UID:4554-1727604000-1727607600@fambach.eksm.de
SUMMARY:Gottesdienst zum 18. Sonntag nach Trinitatis
DESCRIPTION:
URL:https://fambach.eksm.de/veranstaltung/gottesdienst-zum-18-sonntag-nach-trinitatis/
LOCATION:Jakobuskirche Fambach\, Kirchberg 4\, Fambach\, Thüringen\, 98597\, Deutschland
CATEGORIES:Gottesdienste
END:VEVENT
END:VCALENDAR