BEGIN:VCALENDAR
VERSION:2.0
PRODID:-//Kirchengemeinde Fambach - ECPv6.15.20//NONSGML v1.0//EN
CALSCALE:GREGORIAN
METHOD:PUBLISH
X-WR-CALNAME:Kirchengemeinde Fambach
X-ORIGINAL-URL:https://fambach.eksm.de
X-WR-CALDESC:Veranstaltungen für Kirchengemeinde Fambach
REFRESH-INTERVAL;VALUE=DURATION:PT1H
X-Robots-Tag:noindex
X-PUBLISHED-TTL:PT1H
BEGIN:VTIMEZONE
TZID:Europe/Berlin
BEGIN:DAYLIGHT
TZOFFSETFROM:+0100
TZOFFSETTO:+0200
TZNAME:CEST
DTSTART:20230326T010000
END:DAYLIGHT
BEGIN:STANDARD
TZOFFSETFROM:+0200
TZOFFSETTO:+0100
TZNAME:CET
DTSTART:20231029T010000
END:STANDARD
BEGIN:DAYLIGHT
TZOFFSETFROM:+0100
TZOFFSETTO:+0200
TZNAME:CEST
DTSTART:20240331T010000
END:DAYLIGHT
BEGIN:STANDARD
TZOFFSETFROM:+0200
TZOFFSETTO:+0100
TZNAME:CET
DTSTART:20241027T010000
END:STANDARD
BEGIN:DAYLIGHT
TZOFFSETFROM:+0100
TZOFFSETTO:+0200
TZNAME:CEST
DTSTART:20250330T010000
END:DAYLIGHT
BEGIN:STANDARD
TZOFFSETFROM:+0200
TZOFFSETTO:+0100
TZNAME:CET
DTSTART:20251026T010000
END:STANDARD
END:VTIMEZONE
BEGIN:VEVENT
DTSTART;TZID=Europe/Berlin:20240804T140000
DTEND;TZID=Europe/Berlin:20240804T150000
DTSTAMP:20260422T014052
CREATED:20240714T193244Z
LAST-MODIFIED:20240714T193244Z
UID:4487-1722780000-1722783600@fambach.eksm.de
SUMMARY:Gottesdienst zum Schulanfang mit Musik von "Little Rocks"
DESCRIPTION:
URL:https://fambach.eksm.de/veranstaltung/gottesdienst-zum-schulanfang-mit-musik-von-little-rocks/
LOCATION:Jakobuskirche Fambach\, Kirchberg 4\, Fambach\, Thüringen\, 98597\, Deutschland
CATEGORIES:Gottesdienste
END:VEVENT
BEGIN:VEVENT
DTSTART;TZID=Europe/Berlin:20240811T100000
DTEND;TZID=Europe/Berlin:20240811T110000
DTSTAMP:20260422T014052
CREATED:20240714T193449Z
LAST-MODIFIED:20240714T193449Z
UID:4491-1723370400-1723374000@fambach.eksm.de
SUMMARY:Predigtgottesdienst zum 11. Sonntag nach Trinitatis
DESCRIPTION:
URL:https://fambach.eksm.de/veranstaltung/predigtgottesdienst-zum-11-sonntag-nach-trinitatis/
LOCATION:Jakobuskirche Fambach\, Kirchberg 4\, Fambach\, Thüringen\, 98597\, Deutschland
CATEGORIES:Gottesdienste
END:VEVENT
BEGIN:VEVENT
DTSTART;TZID=Europe/Berlin:20240818T140000
DTEND;TZID=Europe/Berlin:20240818T150000
DTSTAMP:20260422T014052
CREATED:20240714T193616Z
LAST-MODIFIED:20240714T193617Z
UID:4493-1723989600-1723993200@fambach.eksm.de
SUMMARY:Festgottesdienst zum Jakobusfest
DESCRIPTION:
URL:https://fambach.eksm.de/veranstaltung/festgottesdienst-zum-jakobusfest/
LOCATION:Jakobuskirche Fambach\, Kirchberg 4\, Fambach\, Thüringen\, 98597\, Deutschland
CATEGORIES:Gottesdienste
END:VEVENT
BEGIN:VEVENT
DTSTART;TZID=Europe/Berlin:20240825T100000
DTEND;TZID=Europe/Berlin:20240825T110000
DTSTAMP:20260422T014052
CREATED:20240821T175755Z
LAST-MODIFIED:20240821T175755Z
UID:4542-1724580000-1724583600@fambach.eksm.de
SUMMARY:Gottesdienst zum 13. Sonntag nach Trinitatis in Fambach
DESCRIPTION:
URL:https://fambach.eksm.de/veranstaltung/gottesdienst-zum-13-sonntag-nach-trinitatis-in-fambach/
LOCATION:Jakobuskirche Fambach\, Kirchberg 4\, Fambach\, Thüringen\, 98597\, Deutschland
CATEGORIES:Gottesdienste
END:VEVENT
END:VCALENDAR