BEGIN:VCALENDAR
VERSION:2.0
PRODID:-//Kirchengemeinde Fambach - ECPv6.15.20//NONSGML v1.0//EN
CALSCALE:GREGORIAN
METHOD:PUBLISH
X-WR-CALNAME:Kirchengemeinde Fambach
X-ORIGINAL-URL:https://fambach.eksm.de
X-WR-CALDESC:Veranstaltungen für Kirchengemeinde Fambach
REFRESH-INTERVAL;VALUE=DURATION:PT1H
X-Robots-Tag:noindex
X-PUBLISHED-TTL:PT1H
BEGIN:VTIMEZONE
TZID:Europe/Berlin
BEGIN:DAYLIGHT
TZOFFSETFROM:+0100
TZOFFSETTO:+0200
TZNAME:CEST
DTSTART:20230326T010000
END:DAYLIGHT
BEGIN:STANDARD
TZOFFSETFROM:+0200
TZOFFSETTO:+0100
TZNAME:CET
DTSTART:20231029T010000
END:STANDARD
BEGIN:DAYLIGHT
TZOFFSETFROM:+0100
TZOFFSETTO:+0200
TZNAME:CEST
DTSTART:20240331T010000
END:DAYLIGHT
BEGIN:STANDARD
TZOFFSETFROM:+0200
TZOFFSETTO:+0100
TZNAME:CET
DTSTART:20241027T010000
END:STANDARD
BEGIN:DAYLIGHT
TZOFFSETFROM:+0100
TZOFFSETTO:+0200
TZNAME:CEST
DTSTART:20250330T010000
END:DAYLIGHT
BEGIN:STANDARD
TZOFFSETFROM:+0200
TZOFFSETTO:+0100
TZNAME:CET
DTSTART:20251026T010000
END:STANDARD
END:VTIMEZONE
BEGIN:VEVENT
DTSTART;TZID=Europe/Berlin:20240707T100000
DTEND;TZID=Europe/Berlin:20240707T110000
DTSTAMP:20260422T031222
CREATED:20240605T115755Z
LAST-MODIFIED:20240605T115755Z
UID:4445-1720346400-1720350000@fambach.eksm.de
SUMMARY:Festgottesdienst zur Jubelkonfirmation in Fambach
DESCRIPTION:
URL:https://fambach.eksm.de/veranstaltung/festgottesdienst-zur-jubelkonfirmation-in-fambach/
LOCATION:Jakobuskirche Fambach\, Kirchberg 4\, Fambach\, Thüringen\, 98597\, Deutschland
CATEGORIES:Gottesdienste,Konfirmation
END:VEVENT
BEGIN:VEVENT
DTSTART;TZID=Europe/Berlin:20240714T140000
DTEND;TZID=Europe/Berlin:20240714T150000
DTSTAMP:20260422T031222
CREATED:20240707T183530Z
LAST-MODIFIED:20240707T183736Z
UID:4475-1720965600-1720969200@fambach.eksm.de
SUMMARY:Fußball-Gottesdienst mit anschließendem Torwandschießen auf dem Kirchberg
DESCRIPTION:
URL:https://fambach.eksm.de/veranstaltung/fussball-gottesdienst-mit-anschliessendem-torwandschiessen-auf-dem-kirchberg/
LOCATION:Jakobuskirche Fambach\, Kirchberg 4\, Fambach\, Thüringen\, 98597\, Deutschland
CATEGORIES:Gottesdienste
ATTACH;FMTTYPE=image/jpeg:https://fambach.eksm.de/wp-content/uploads/2024/07/WhatsApp-Image-2024-07-07-at-08.04.50.jpeg
END:VEVENT
BEGIN:VEVENT
DTSTART;TZID=Europe/Berlin:20240721T100000
DTEND;TZID=Europe/Berlin:20240721T110000
DTSTAMP:20260422T031222
CREATED:20240707T191553Z
LAST-MODIFIED:20240714T193333Z
UID:4479-1721556000-1721559600@fambach.eksm.de
SUMMARY:Predigtgottesdienst zum 8. Sonntag nach Tinitatis in Heßles
DESCRIPTION:
URL:https://fambach.eksm.de/veranstaltung/gottesdienst-zum-8-sonntag-nach-tinitatis-in-fambach/
LOCATION:Simultangebäude Heßles\, Str. der Freundschaft 49\, Fambach OT Heßles\, Thüringen\, 98597\, Deutschland
CATEGORIES:Gottesdienste
END:VEVENT
BEGIN:VEVENT
DTSTART;TZID=Europe/Berlin:20240728T100000
DTEND;TZID=Europe/Berlin:20240728T110000
DTSTAMP:20260422T031222
CREATED:20240707T191726Z
LAST-MODIFIED:20240714T193314Z
UID:4481-1722160800-1722164400@fambach.eksm.de
SUMMARY:Predigtgottesdienst zum 9. Sonntag nach Trinitatis in Fambach
DESCRIPTION:
URL:https://fambach.eksm.de/veranstaltung/gottesdienst-zum-9-sonntag-nach-trinitatis-in-hessles/
LOCATION:Jakobuskirche Fambach\, Kirchberg 4\, Fambach\, Thüringen\, 98597\, Deutschland
CATEGORIES:Gottesdienste
END:VEVENT
END:VCALENDAR