BEGIN:VCALENDAR
VERSION:2.0
PRODID:-//Kirchengemeinde Fambach - ECPv6.15.20//NONSGML v1.0//EN
CALSCALE:GREGORIAN
METHOD:PUBLISH
X-WR-CALNAME:Kirchengemeinde Fambach
X-ORIGINAL-URL:https://fambach.eksm.de
X-WR-CALDESC:Veranstaltungen für Kirchengemeinde Fambach
REFRESH-INTERVAL;VALUE=DURATION:PT1H
X-Robots-Tag:noindex
X-PUBLISHED-TTL:PT1H
BEGIN:VTIMEZONE
TZID:Europe/Berlin
BEGIN:DAYLIGHT
TZOFFSETFROM:+0100
TZOFFSETTO:+0200
TZNAME:CEST
DTSTART:20230326T010000
END:DAYLIGHT
BEGIN:STANDARD
TZOFFSETFROM:+0200
TZOFFSETTO:+0100
TZNAME:CET
DTSTART:20231029T010000
END:STANDARD
BEGIN:DAYLIGHT
TZOFFSETFROM:+0100
TZOFFSETTO:+0200
TZNAME:CEST
DTSTART:20240331T010000
END:DAYLIGHT
BEGIN:STANDARD
TZOFFSETFROM:+0200
TZOFFSETTO:+0100
TZNAME:CET
DTSTART:20241027T010000
END:STANDARD
BEGIN:DAYLIGHT
TZOFFSETFROM:+0100
TZOFFSETTO:+0200
TZNAME:CEST
DTSTART:20250330T010000
END:DAYLIGHT
BEGIN:STANDARD
TZOFFSETFROM:+0200
TZOFFSETTO:+0100
TZNAME:CET
DTSTART:20251026T010000
END:STANDARD
END:VTIMEZONE
BEGIN:VEVENT
DTSTART;TZID=Europe/Berlin:20240602T100000
DTEND;TZID=Europe/Berlin:20240602T110000
DTSTAMP:20260422T043148
CREATED:20240519T175530Z
LAST-MODIFIED:20240519T175530Z
UID:4429-1717322400-1717326000@fambach.eksm.de
SUMMARY:Predigtgottesdienst zum 1. Sonntag nach Trinitatis
DESCRIPTION:
URL:https://fambach.eksm.de/veranstaltung/predigtgottesdienst-zum-1-sonntag-nach-trinitatis/
LOCATION:Jakobuskirche Fambach\, Kirchberg 4\, Fambach\, Thüringen\, 98597\, Deutschland
CATEGORIES:Gottesdienste
END:VEVENT
BEGIN:VEVENT
DTSTART;TZID=Europe/Berlin:20240609T100000
DTEND;TZID=Europe/Berlin:20240609T110000
DTSTAMP:20260422T043148
CREATED:20240522T080010Z
LAST-MODIFIED:20240522T105313Z
UID:4431-1717927200-1717930800@fambach.eksm.de
SUMMARY:Predigtgottesdienst mit Pfarrer Adler zum 2. Sonntag nach Trinitatis
DESCRIPTION:
URL:https://fambach.eksm.de/veranstaltung/predigtgottesdienst-mit-pfarrer-adler-zum-2-sonntag-nach-trinitatis/
LOCATION:Jakobuskirche Fambach\, Kirchberg 4\, Fambach\, Thüringen\, 98597\, Deutschland
CATEGORIES:Gottesdienste
END:VEVENT
BEGIN:VEVENT
DTSTART;TZID=Europe/Berlin:20240609T180000
DTEND;TZID=Europe/Berlin:20240609T200000
DTSTAMP:20260422T043148
CREATED:20240605T120402Z
LAST-MODIFIED:20240605T120402Z
UID:4447-1717956000-1717963200@fambach.eksm.de
SUMMARY:Konzert: Autumn Rain mit Support von Firestone
DESCRIPTION:
URL:https://fambach.eksm.de/veranstaltung/konzert-autumn-rain-mit-support-von-firestone/
LOCATION:Jakobuskirche Fambach\, Kirchberg 4\, Fambach\, Thüringen\, 98597\, Deutschland
CATEGORIES:Konzerte
END:VEVENT
BEGIN:VEVENT
DTSTART;TZID=Europe/Berlin:20240616T100000
DTEND;TZID=Europe/Berlin:20240616T110000
DTSTAMP:20260422T043148
CREATED:20240527T185635Z
LAST-MODIFIED:20240527T185635Z
UID:4438-1718532000-1718535600@fambach.eksm.de
SUMMARY:Predigtgottesdienst zum 3. Sonntag nach Trinitatis in Heßles
DESCRIPTION:
URL:https://fambach.eksm.de/veranstaltung/predigtgottesdienst-zum-3-sonntag-nach-trinitatis-in-hessles/
LOCATION:Simultangebäude Heßles\, Str. der Freundschaft 49\, Fambach OT Heßles\, Thüringen\, 98597\, Deutschland
CATEGORIES:Gottesdienste
END:VEVENT
BEGIN:VEVENT
DTSTART;TZID=Europe/Berlin:20240623T100000
DTEND;TZID=Europe/Berlin:20240623T110000
DTSTAMP:20260422T043148
CREATED:20240527T185851Z
LAST-MODIFIED:20240621T130304Z
UID:4440-1719136800-1719140400@fambach.eksm.de
SUMMARY:Gottesdienst zur Verabschiedung von unserer Kindergarten-Leiterin Frau Weyh
DESCRIPTION:Einladung zum Abschiedsgottesdienst für Kerstin Weyh
URL:https://fambach.eksm.de/veranstaltung/gottesdienst-zur-verabschiedung-von-unserer-kindergarten-leiterin-frau-weyh/
LOCATION:Jakobuskirche Fambach\, Kirchberg 4\, Fambach\, Thüringen\, 98597\, Deutschland
CATEGORIES:Gottesdienste
END:VEVENT
BEGIN:VEVENT
DTSTART;TZID=Europe/Berlin:20240630T100000
DTEND;TZID=Europe/Berlin:20240630T110000
DTSTAMP:20260422T043148
CREATED:20240605T115637Z
LAST-MODIFIED:20240605T115637Z
UID:4443-1719741600-1719745200@fambach.eksm.de
SUMMARY:Predigtgottesdienst zum 5. Sonntag nach Trinitatis in Fambach
DESCRIPTION:
URL:https://fambach.eksm.de/veranstaltung/predigtgottesdienst-zum-5-sonntag-nach-trinitatis-in-fambach/
LOCATION:Jakobuskirche Fambach\, Kirchberg 4\, Fambach\, Thüringen\, 98597\, Deutschland
CATEGORIES:Gottesdienste
END:VEVENT
END:VCALENDAR