BEGIN:VCALENDAR
VERSION:2.0
PRODID:-//Kirchengemeinde Fambach - ECPv6.15.20//NONSGML v1.0//EN
CALSCALE:GREGORIAN
METHOD:PUBLISH
X-ORIGINAL-URL:https://fambach.eksm.de
X-WR-CALDESC:Veranstaltungen für Kirchengemeinde Fambach
REFRESH-INTERVAL;VALUE=DURATION:PT1H
X-Robots-Tag:noindex
X-PUBLISHED-TTL:PT1H
BEGIN:VTIMEZONE
TZID:Europe/Berlin
BEGIN:DAYLIGHT
TZOFFSETFROM:+0100
TZOFFSETTO:+0200
TZNAME:CEST
DTSTART:20230326T010000
END:DAYLIGHT
BEGIN:STANDARD
TZOFFSETFROM:+0200
TZOFFSETTO:+0100
TZNAME:CET
DTSTART:20231029T010000
END:STANDARD
BEGIN:DAYLIGHT
TZOFFSETFROM:+0100
TZOFFSETTO:+0200
TZNAME:CEST
DTSTART:20240331T010000
END:DAYLIGHT
BEGIN:STANDARD
TZOFFSETFROM:+0200
TZOFFSETTO:+0100
TZNAME:CET
DTSTART:20241027T010000
END:STANDARD
BEGIN:DAYLIGHT
TZOFFSETFROM:+0100
TZOFFSETTO:+0200
TZNAME:CEST
DTSTART:20250330T010000
END:DAYLIGHT
BEGIN:STANDARD
TZOFFSETFROM:+0200
TZOFFSETTO:+0100
TZNAME:CET
DTSTART:20251026T010000
END:STANDARD
END:VTIMEZONE
BEGIN:VEVENT
DTSTART;TZID=Europe/Berlin:20240519T100000
DTEND;TZID=Europe/Berlin:20240519T110000
DTSTAMP:20260422T060703
CREATED:20240519T115926Z
LAST-MODIFIED:20240519T120506Z
UID:4420-1716112800-1716116400@fambach.eksm.de
SUMMARY:Pfingstgottesdienst in der Jakobuskirche Fambach
DESCRIPTION:
URL:https://fambach.eksm.de/veranstaltung/pfingstgottesdienst-in-der-jakobuskirche-fambach/
LOCATION:Jakobuskirche Fambach\, Kirchberg 4\, Fambach\, Thüringen\, 98597\, Deutschland
CATEGORIES:Gottesdienste
END:VEVENT
BEGIN:VEVENT
DTSTART;TZID=Europe/Berlin:20240520T100000
DTEND;TZID=Europe/Berlin:20240520T110000
DTSTAMP:20260422T060703
CREATED:20240519T120227Z
LAST-MODIFIED:20240519T121302Z
UID:4422-1716199200-1716202800@fambach.eksm.de
SUMMARY:Pfingstgottesdienst im Simultangebäude Heßles
DESCRIPTION:
URL:https://fambach.eksm.de/veranstaltung/pfingstgottesdienst-im-simultangebaeude-hessles/
LOCATION:Simultangebäude Heßles\, Str. der Freundschaft 49\, Fambach OT Heßles\, Thüringen\, 98597\, Deutschland
CATEGORIES:Gottesdienste
END:VEVENT
BEGIN:VEVENT
DTSTART;TZID=Europe/Berlin:20240526T170000
DTEND;TZID=Europe/Berlin:20240526T183000
DTSTAMP:20260422T060703
CREATED:20240519T121044Z
LAST-MODIFIED:20240522T105453Z
UID:4426-1716742800-1716748200@fambach.eksm.de
SUMMARY:Sommerliches Chorkonzert
DESCRIPTION:Der Fambacher Kirchenchor begeht in diesem Jahr sein 75-jähriges Bestehen. Das feiern wir zum Jakobusfest am 18. August. Zuvor möchten wir Sie jedoch schon herzlich zu unserem Frühsommerkonzert am 26. Mai um 17 Uhr einladen. \nAuch der Fambacher Frauenchor ist mit dabei. \nWir freuen uns auf zahlreiche Besucher.
URL:https://fambach.eksm.de/veranstaltung/sommerliches-chorkonzert/
LOCATION:Jakobuskirche Fambach\, Kirchberg 4\, Fambach\, Thüringen\, 98597\, Deutschland
CATEGORIES:Konzerte
END:VEVENT
END:VCALENDAR