BEGIN:VCALENDAR
VERSION:2.0
PRODID:-//Kirchengemeinde Fambach - ECPv6.15.20//NONSGML v1.0//EN
CALSCALE:GREGORIAN
METHOD:PUBLISH
X-WR-CALNAME:Kirchengemeinde Fambach
X-ORIGINAL-URL:https://fambach.eksm.de
X-WR-CALDESC:Veranstaltungen für Kirchengemeinde Fambach
REFRESH-INTERVAL;VALUE=DURATION:PT1H
X-Robots-Tag:noindex
X-PUBLISHED-TTL:PT1H
BEGIN:VTIMEZONE
TZID:Europe/Berlin
BEGIN:DAYLIGHT
TZOFFSETFROM:+0100
TZOFFSETTO:+0200
TZNAME:CEST
DTSTART:20230326T010000
END:DAYLIGHT
BEGIN:STANDARD
TZOFFSETFROM:+0200
TZOFFSETTO:+0100
TZNAME:CET
DTSTART:20231029T010000
END:STANDARD
BEGIN:DAYLIGHT
TZOFFSETFROM:+0100
TZOFFSETTO:+0200
TZNAME:CEST
DTSTART:20240331T010000
END:DAYLIGHT
BEGIN:STANDARD
TZOFFSETFROM:+0200
TZOFFSETTO:+0100
TZNAME:CET
DTSTART:20241027T010000
END:STANDARD
BEGIN:DAYLIGHT
TZOFFSETFROM:+0100
TZOFFSETTO:+0200
TZNAME:CEST
DTSTART:20250330T010000
END:DAYLIGHT
BEGIN:STANDARD
TZOFFSETFROM:+0200
TZOFFSETTO:+0100
TZNAME:CET
DTSTART:20251026T010000
END:STANDARD
END:VTIMEZONE
BEGIN:VEVENT
DTSTART;TZID=Europe/Berlin:20240317T100000
DTEND;TZID=Europe/Berlin:20240317T110000
DTSTAMP:20260422T084613
CREATED:20240310T164152Z
LAST-MODIFIED:20240310T164255Z
UID:4152-1710669600-1710673200@fambach.eksm.de
SUMMARY:Gemeinsamer Passionsgottesdienst in Herrenbreitungen
DESCRIPTION:
URL:https://fambach.eksm.de/veranstaltung/gemeinsamer-passionsgottesdienst-in-herrenbreitungen/
LOCATION:Michaelskirche Herrenbreitungen\, Bei der Kirche 1a\, Breitungen\, 98597
CATEGORIES:Gottesdienste
END:VEVENT
BEGIN:VEVENT
DTSTART;TZID=Europe/Berlin:20240324T100000
DTEND;TZID=Europe/Berlin:20240324T110000
DTSTAMP:20260422T084613
CREATED:20240131T162343Z
LAST-MODIFIED:20240131T162343Z
UID:4100-1711274400-1711278000@fambach.eksm.de
SUMMARY:Gottesdienst zum Palmsonntag
DESCRIPTION:
URL:https://fambach.eksm.de/veranstaltung/gottesdienst-zum-palmsonntag/
LOCATION:Jakobuskirche Fambach\, Kirchberg 4\, Fambach\, Thüringen\, 98597\, Deutschland
CATEGORIES:Gottesdienste
END:VEVENT
BEGIN:VEVENT
DTSTART;TZID=Europe/Berlin:20240328T183000
DTEND;TZID=Europe/Berlin:20240328T193000
DTSTAMP:20260422T084613
CREATED:20240131T162923Z
LAST-MODIFIED:20240310T165212Z
UID:4102-1711650600-1711654200@fambach.eksm.de
SUMMARY:Tischabendmahlsfeier zum Gründonnerstag
DESCRIPTION:
URL:https://fambach.eksm.de/veranstaltung/tischabendmahlsfeier-zum-gruendonnerstag/
LOCATION:Gemeindehaus Fambach\, Am Berg 10\, Fambach\, Thüringen\, 98597
CATEGORIES:Abendmahlgottesdienste,Gottesdienste
END:VEVENT
BEGIN:VEVENT
DTSTART;TZID=Europe/Berlin:20240329T100000
DTEND;TZID=Europe/Berlin:20240329T110000
DTSTAMP:20260422T084613
CREATED:20240310T183404Z
LAST-MODIFIED:20240310T185008Z
UID:4156-1711706400-1711710000@fambach.eksm.de
SUMMARY:Abendmahlsgottesdienst zum Karfreitag in Heßles
DESCRIPTION:
URL:https://fambach.eksm.de/veranstaltung/abendmahlsgottesdienst-zum-karfreitag-in-hessles/
LOCATION:Simultangebäude Heßles\, Str. der Freundschaft 49\, Fambach OT Heßles\, Thüringen\, 98597\, Deutschland
CATEGORIES:Abendmahlgottesdienste,Gottesdienste
END:VEVENT
BEGIN:VEVENT
DTSTART;TZID=Europe/Berlin:20240329T150000
DTEND;TZID=Europe/Berlin:20240329T160000
DTSTAMP:20260422T084613
CREATED:20240131T163202Z
LAST-MODIFIED:20240310T183534Z
UID:4104-1711724400-1711728000@fambach.eksm.de
SUMMARY:Feierliche Andacht zur Todesstunde mit dem Kirchenchor
DESCRIPTION:
URL:https://fambach.eksm.de/veranstaltung/feierliche-andacht-zum-karfreitag-mit-kirchenchor/
LOCATION:Jakobuskirche Fambach\, Kirchberg 4\, Fambach\, Thüringen\, 98597\, Deutschland
CATEGORIES:Andachten,Gottesdienste
END:VEVENT
BEGIN:VEVENT
DTSTART;TZID=Europe/Berlin:20240331T090000
DTEND;TZID=Europe/Berlin:20240331T100000
DTSTAMP:20260422T084613
CREATED:20240310T184154Z
LAST-MODIFIED:20240310T184154Z
UID:4160-1711875600-1711879200@fambach.eksm.de
SUMMARY:Festgottesdienst zum Ostersonntag in Heßles
DESCRIPTION:
URL:https://fambach.eksm.de/veranstaltung/festgottesdienst-zum-ostersonntag-in-hessles/
LOCATION:Simultangebäude Heßles\, Str. der Freundschaft 49\, Fambach OT Heßles\, Thüringen\, 98597\, Deutschland
CATEGORIES:Gottesdienste
END:VEVENT
BEGIN:VEVENT
DTSTART;TZID=Europe/Berlin:20240331T100000
DTEND;TZID=Europe/Berlin:20240331T110000
DTSTAMP:20260422T084613
CREATED:20240131T164307Z
LAST-MODIFIED:20240310T184238Z
UID:4107-1711879200-1711882800@fambach.eksm.de
SUMMARY:Festgottesdienst mit Schmücken des Blumenkreuzes zum Ostersonntag in Fambach
DESCRIPTION:
URL:https://fambach.eksm.de/veranstaltung/gottesdienst-zum-ostersonntag/
LOCATION:Jakobuskirche Fambach\, Kirchberg 4\, Fambach\, Thüringen\, 98597\, Deutschland
CATEGORIES:Gottesdienste
END:VEVENT
END:VCALENDAR