BEGIN:VCALENDAR
VERSION:2.0
PRODID:-//Kirchengemeinde Fambach - ECPv6.15.20//NONSGML v1.0//EN
CALSCALE:GREGORIAN
METHOD:PUBLISH
X-ORIGINAL-URL:https://fambach.eksm.de
X-WR-CALDESC:Veranstaltungen für Kirchengemeinde Fambach
REFRESH-INTERVAL;VALUE=DURATION:PT1H
X-Robots-Tag:noindex
X-PUBLISHED-TTL:PT1H
BEGIN:VTIMEZONE
TZID:Europe/Berlin
BEGIN:DAYLIGHT
TZOFFSETFROM:+0100
TZOFFSETTO:+0200
TZNAME:CEST
DTSTART:20230326T010000
END:DAYLIGHT
BEGIN:STANDARD
TZOFFSETFROM:+0200
TZOFFSETTO:+0100
TZNAME:CET
DTSTART:20231029T010000
END:STANDARD
BEGIN:DAYLIGHT
TZOFFSETFROM:+0100
TZOFFSETTO:+0200
TZNAME:CEST
DTSTART:20240331T010000
END:DAYLIGHT
BEGIN:STANDARD
TZOFFSETFROM:+0200
TZOFFSETTO:+0100
TZNAME:CET
DTSTART:20241027T010000
END:STANDARD
BEGIN:DAYLIGHT
TZOFFSETFROM:+0100
TZOFFSETTO:+0200
TZNAME:CEST
DTSTART:20250330T010000
END:DAYLIGHT
BEGIN:STANDARD
TZOFFSETFROM:+0200
TZOFFSETTO:+0100
TZNAME:CET
DTSTART:20251026T010000
END:STANDARD
END:VTIMEZONE
BEGIN:VEVENT
DTSTART;TZID=Europe/Berlin:20240204T100000
DTEND;TZID=Europe/Berlin:20240204T110000
DTSTAMP:20260424T122601
CREATED:20240131T160036Z
LAST-MODIFIED:20240131T160036Z
UID:4092-1707040800-1707044400@fambach.eksm.de
SUMMARY:Gottesdienst mit Vorstellung der Vorkonfirmanden
DESCRIPTION:
URL:https://fambach.eksm.de/veranstaltung/gottesdienst-mit-vorstellung-der-vorkonfirmanden/
LOCATION:Jakobuskirche Fambach\, Kirchberg 4\, Fambach\, Thüringen\, 98597\, Deutschland
CATEGORIES:Gottesdienste
END:VEVENT
BEGIN:VEVENT
DTSTART;TZID=Europe/Berlin:20240211T100000
DTEND;TZID=Europe/Berlin:20240211T110000
DTSTAMP:20260424T122601
CREATED:20240131T160510Z
LAST-MODIFIED:20240131T160510Z
UID:4094-1707645600-1707649200@fambach.eksm.de
SUMMARY:Gottesdienst zum Sonntag Estomihi
DESCRIPTION:
URL:https://fambach.eksm.de/veranstaltung/gottesdienst-zum-sonntag-estomihi/
LOCATION:Jakobuskirche Fambach\, Kirchberg 4\, Fambach\, Thüringen\, 98597\, Deutschland
CATEGORIES:Gottesdienste
END:VEVENT
BEGIN:VEVENT
DTSTART;TZID=Europe/Berlin:20240218T100000
DTEND;TZID=Europe/Berlin:20240218T110000
DTSTAMP:20260424T122601
CREATED:20240131T161022Z
LAST-MODIFIED:20240131T161022Z
UID:4096-1708250400-1708254000@fambach.eksm.de
SUMMARY:Gottesdienst zum Sonntag Invokavit in Heßles
DESCRIPTION:
URL:https://fambach.eksm.de/veranstaltung/gottesdienst-zum-sonntag-invokavit-in-hessles/
LOCATION:Simultangebäude Heßles\, Str. der Freundschaft 49\, Fambach OT Heßles\, Thüringen\, 98597\, Deutschland
CATEGORIES:Gottesdienste
END:VEVENT
BEGIN:VEVENT
DTSTART;TZID=Europe/Berlin:20240225T110000
DTEND;TZID=Europe/Berlin:20240225T120000
DTSTAMP:20260424T122601
CREATED:20240131T162020Z
LAST-MODIFIED:20240131T162020Z
UID:4098-1708858800-1708862400@fambach.eksm.de
SUMMARY:Passionsgottesdienst mit Vorstellung der Konfirmanden
DESCRIPTION:Den Beginn der diesjährigen Passionszeit begehen wir in Fambach mit der Vorstellung unserer Konfirmanden. \nGleichzeitig bildet dieser Abendmahlgottesdienst den Auftakt einer Reihe von Gottesdiensten  unter dem Motto „Schmecket und sehet\, wie freundlich der Herr ist!“ (Ps 34\,9).  \nIch freue mich auf Ihr Kommen! \nHerzliche Grüße\,\nIhre Pfarrerin Milina Reichardt-Hahn
URL:https://fambach.eksm.de/veranstaltung/passionsgottesdienst-mit-vorstellung-der-konfirmanden/
LOCATION:Jakobuskirche Fambach\, Kirchberg 4\, Fambach\, Thüringen\, 98597\, Deutschland
CATEGORIES:Abendmahlgottesdienste,Gottesdienste
END:VEVENT
END:VCALENDAR