BEGIN:VCALENDAR
VERSION:2.0
PRODID:-//Kirchengemeinde Fambach - ECPv6.15.20//NONSGML v1.0//EN
CALSCALE:GREGORIAN
METHOD:PUBLISH
X-ORIGINAL-URL:https://fambach.eksm.de
X-WR-CALDESC:Veranstaltungen für Kirchengemeinde Fambach
REFRESH-INTERVAL;VALUE=DURATION:PT1H
X-Robots-Tag:noindex
X-PUBLISHED-TTL:PT1H
BEGIN:VTIMEZONE
TZID:Europe/Berlin
BEGIN:DAYLIGHT
TZOFFSETFROM:+0100
TZOFFSETTO:+0200
TZNAME:CEST
DTSTART:20240331T010000
END:DAYLIGHT
BEGIN:STANDARD
TZOFFSETFROM:+0200
TZOFFSETTO:+0100
TZNAME:CET
DTSTART:20241027T010000
END:STANDARD
BEGIN:DAYLIGHT
TZOFFSETFROM:+0100
TZOFFSETTO:+0200
TZNAME:CEST
DTSTART:20250330T010000
END:DAYLIGHT
BEGIN:STANDARD
TZOFFSETFROM:+0200
TZOFFSETTO:+0100
TZNAME:CET
DTSTART:20251026T010000
END:STANDARD
BEGIN:DAYLIGHT
TZOFFSETFROM:+0100
TZOFFSETTO:+0200
TZNAME:CEST
DTSTART:20260329T010000
END:DAYLIGHT
BEGIN:STANDARD
TZOFFSETFROM:+0200
TZOFFSETTO:+0100
TZNAME:CET
DTSTART:20261025T010000
END:STANDARD
END:VTIMEZONE
BEGIN:VEVENT
DTSTART;TZID=Europe/Berlin:20251123T100000
DTEND;TZID=Europe/Berlin:20251123T113000
DTSTAMP:20260419T150501
CREATED:20251103T202519Z
LAST-MODIFIED:20251117T190413Z
UID:5441-1763892000-1763897400@fambach.eksm.de
SUMMARY:Abendmahlsgottesdienst zum Ewigkeitssonntag mit dem Kirchenchor in Fambach
DESCRIPTION:
URL:https://fambach.eksm.de/veranstaltung/abendmahlsgottesdienst-zum-ewigkeitssonntag-mit-pfarrer-haerlin/
LOCATION:Jakobuskirche Fambach\, Kirchberg 4\, Fambach\, Thüringen\, 98597\, Deutschland
CATEGORIES:Abendmahlgottesdienste,Gottesdienste
END:VEVENT
BEGIN:VEVENT
DTSTART;TZID=Europe/Berlin:20251123T140000
DTEND;TZID=Europe/Berlin:20251123T153000
DTSTAMP:20260419T150501
CREATED:20251103T202702Z
LAST-MODIFIED:20251103T202702Z
UID:5444-1763906400-1763911800@fambach.eksm.de
SUMMARY:Abendmahlsgottesdienst zum Ewigkeitssonntag mit Pfarrer Härlin in Heßles
DESCRIPTION:
URL:https://fambach.eksm.de/veranstaltung/abendmahlsgottesdienst-zum-ewigkeitssonntag-mit-pfarrer-haerlin-in-hessles/
LOCATION:Simultangebäude Heßles\, Str. der Freundschaft 49\, Fambach OT Heßles\, Thüringen\, 98597\, Deutschland
CATEGORIES:Abendmahlgottesdienste,Gottesdienste
END:VEVENT
END:VCALENDAR