BEGIN:VCALENDAR
VERSION:2.0
PRODID:-//Kirchengemeinde Fambach - ECPv6.15.20//NONSGML v1.0//EN
CALSCALE:GREGORIAN
METHOD:PUBLISH
X-WR-CALNAME:Kirchengemeinde Fambach
X-ORIGINAL-URL:https://fambach.eksm.de
X-WR-CALDESC:Veranstaltungen für Kirchengemeinde Fambach
REFRESH-INTERVAL;VALUE=DURATION:PT1H
X-Robots-Tag:noindex
X-PUBLISHED-TTL:PT1H
BEGIN:VTIMEZONE
TZID:Europe/Berlin
BEGIN:DAYLIGHT
TZOFFSETFROM:+0100
TZOFFSETTO:+0200
TZNAME:CEST
DTSTART:20240331T010000
END:DAYLIGHT
BEGIN:STANDARD
TZOFFSETFROM:+0200
TZOFFSETTO:+0100
TZNAME:CET
DTSTART:20241027T010000
END:STANDARD
BEGIN:DAYLIGHT
TZOFFSETFROM:+0100
TZOFFSETTO:+0200
TZNAME:CEST
DTSTART:20250330T010000
END:DAYLIGHT
BEGIN:STANDARD
TZOFFSETFROM:+0200
TZOFFSETTO:+0100
TZNAME:CET
DTSTART:20251026T010000
END:STANDARD
BEGIN:DAYLIGHT
TZOFFSETFROM:+0100
TZOFFSETTO:+0200
TZNAME:CEST
DTSTART:20260329T010000
END:DAYLIGHT
BEGIN:STANDARD
TZOFFSETFROM:+0200
TZOFFSETTO:+0100
TZNAME:CET
DTSTART:20261025T010000
END:STANDARD
END:VTIMEZONE
BEGIN:VEVENT
DTSTART;TZID=Europe/Berlin:20250824T140000
DTEND;TZID=Europe/Berlin:20250824T170000
DTSTAMP:20260419T192500
CREATED:20250617T180258Z
LAST-MODIFIED:20250820T191129Z
UID:5301-1756044000-1756054800@fambach.eksm.de
SUMMARY:Jakobusfest
DESCRIPTION:Zum diesjährigen Jakobusfest möchten wir unserer Pfarrerin Milina Reichardt-Hahn für Ihren Dienst in unserer Kirchgemeinde danken und mit ihr einen letzten bunten und musikalischen Gottesdienst feiern. Sie dürfen sich auf die Famberg Musikanten sowie Lied-Beiträge des Evangelischen Kindergartens und des Fambacher Kirchenchores freuen. \nWie in den letzten Jahren wird es nach dem Gottesdienst rund um die Kirche leckeres Essen\, Getränke\, Musik sowie Zeit für gute Gespräche – und zum Abschiednehmen – geben. \nWir freuen uns auf ein schönes Jakobusfest und auf Ihr Kommen!
URL:https://fambach.eksm.de/veranstaltung/save-the-date-jakobusfest/
LOCATION:Jakobuskirche Fambach\, Kirchberg 4\, Fambach\, Thüringen\, 98597\, Deutschland
CATEGORIES:Festgottesdienste,Gottesdienste
ATTACH;FMTTYPE=image/png:https://fambach.eksm.de/wp-content/uploads/2025/08/RUND-UM-DIE-KIRCHE-2.png
END:VEVENT
END:VCALENDAR