BEGIN:VCALENDAR
VERSION:2.0
PRODID:-//Kirchengemeinde Fambach - ECPv6.15.20//NONSGML v1.0//EN
CALSCALE:GREGORIAN
METHOD:PUBLISH
X-ORIGINAL-URL:https://fambach.eksm.de
X-WR-CALDESC:Veranstaltungen für Kirchengemeinde Fambach
REFRESH-INTERVAL;VALUE=DURATION:PT1H
X-Robots-Tag:noindex
X-PUBLISHED-TTL:PT1H
BEGIN:VTIMEZONE
TZID:Europe/Berlin
BEGIN:DAYLIGHT
TZOFFSETFROM:+0100
TZOFFSETTO:+0200
TZNAME:CEST
DTSTART:20240331T010000
END:DAYLIGHT
BEGIN:STANDARD
TZOFFSETFROM:+0200
TZOFFSETTO:+0100
TZNAME:CET
DTSTART:20241027T010000
END:STANDARD
BEGIN:DAYLIGHT
TZOFFSETFROM:+0100
TZOFFSETTO:+0200
TZNAME:CEST
DTSTART:20250330T010000
END:DAYLIGHT
BEGIN:STANDARD
TZOFFSETFROM:+0200
TZOFFSETTO:+0100
TZNAME:CET
DTSTART:20251026T010000
END:STANDARD
BEGIN:DAYLIGHT
TZOFFSETFROM:+0100
TZOFFSETTO:+0200
TZNAME:CEST
DTSTART:20260329T010000
END:DAYLIGHT
BEGIN:STANDARD
TZOFFSETFROM:+0200
TZOFFSETTO:+0100
TZNAME:CET
DTSTART:20261025T010000
END:STANDARD
END:VTIMEZONE
BEGIN:VEVENT
DTSTART;TZID=Europe/Berlin:20250316T100000
DTEND;TZID=Europe/Berlin:20250316T110000
DTSTAMP:20260421T164052
CREATED:20250221T195502Z
LAST-MODIFIED:20250222T185959Z
UID:5122-1742119200-1742122800@fambach.eksm.de
SUMMARY:Passionsgottesdienst an Reminiszere: Herzliche Einladung ins Gemeindehaus nach Herges
DESCRIPTION:Seht hin…?!\n„Wie sie ihn mit Dornen krönen\, wie jeder ihn verspotten will…” \nMit dieser Zeile aus dem Passionslied im Evangelischen Gesangbuch (EG 95) werden verschiedene Fragen aufgeworfen: \n\nWer sieht hier eigentlich was und warum?\nWas sehen wir und wo finden wir uns wieder?\nWas bedeutet der Leidensweg Jesu für mich als ChristIn?\n\nAn den vier Sonntagen der Passionszeit möchten wir uns den Antworten auf diese Fragen widmen. Wie im letzten Jahr freuen sich Pfarrer Oertel und die Pfarrerinnen Reichardt-Hahn und Conrad über Ihre Teilnahme an den Gottesdiensten jeweils in einem unserer vier Gemeindehäuser. \nDen Anfang macht Pfarrer Oertel im Gemeindehaus Trustetal/Herges. \nSeien Sie herzlich eingeladen! \nGottesdienste zur Passionszeit 2025
URL:https://fambach.eksm.de/veranstaltung/passionsgottesdienst-an-reminiszere-herzliche-einladung-ins-gemeindehaus-nach-herges/
LOCATION:Thüringen
CATEGORIES:Gottesdienste
ATTACH;FMTTYPE=image/png:https://fambach.eksm.de/wp-content/uploads/2025/02/Passionszeit2025_Website-Grafik_V2-Kopie.png
END:VEVENT
END:VCALENDAR