BEGIN:VCALENDAR
VERSION:2.0
PRODID:-//Kirchengemeinde Fambach - ECPv6.15.20//NONSGML v1.0//EN
CALSCALE:GREGORIAN
METHOD:PUBLISH
X-ORIGINAL-URL:https://fambach.eksm.de
X-WR-CALDESC:Veranstaltungen für Kirchengemeinde Fambach
REFRESH-INTERVAL;VALUE=DURATION:PT1H
X-Robots-Tag:noindex
X-PUBLISHED-TTL:PT1H
BEGIN:VTIMEZONE
TZID:Europe/Berlin
BEGIN:DAYLIGHT
TZOFFSETFROM:+0100
TZOFFSETTO:+0200
TZNAME:CEST
DTSTART:20240331T010000
END:DAYLIGHT
BEGIN:STANDARD
TZOFFSETFROM:+0200
TZOFFSETTO:+0100
TZNAME:CET
DTSTART:20241027T010000
END:STANDARD
BEGIN:DAYLIGHT
TZOFFSETFROM:+0100
TZOFFSETTO:+0200
TZNAME:CEST
DTSTART:20250330T010000
END:DAYLIGHT
BEGIN:STANDARD
TZOFFSETFROM:+0200
TZOFFSETTO:+0100
TZNAME:CET
DTSTART:20251026T010000
END:STANDARD
BEGIN:DAYLIGHT
TZOFFSETFROM:+0100
TZOFFSETTO:+0200
TZNAME:CEST
DTSTART:20260329T010000
END:DAYLIGHT
BEGIN:STANDARD
TZOFFSETFROM:+0200
TZOFFSETTO:+0100
TZNAME:CET
DTSTART:20261025T010000
END:STANDARD
END:VTIMEZONE
BEGIN:VEVENT
DTSTART;TZID=Europe/Berlin:20250307T180000
DTEND;TZID=Europe/Berlin:20250307T193000
DTSTAMP:20260421T163951
CREATED:20250306T190524Z
LAST-MODIFIED:20250306T191030Z
UID:5181-1741370400-1741375800@fambach.eksm.de
SUMMARY:Gottesdienst zum Weltgebetstag im Gemeindehaus Fambach
DESCRIPTION:Ein Gebet wandert um die Welt: Für Freitag\, 7. März\, lädt die Kirchengemeinde Fambach zum Feiern\, Beten und Essen ein. \nUm 18 Uhr beginnt im Gemeindehaus „Albert Schweitzer“ der Gottesdienst zum Weltgebetstag; vorbereitet haben ihn in diesem Jahr Frauen von den Cookinseln im Südpazifik. Ihr Titel für die weltweite Aktion lautet: „wunderbar geschaffen“. \nwunderbar geschaffen: Gottesdienst & Kindernachmittag zum Weltgebetstag 2025 in Fambach
URL:https://fambach.eksm.de/veranstaltung/gottesdienst-zum-weltgebetstag-im-gemeindehaus-fambach/
LOCATION:Gemeindehaus Fambach\, Am Berg 10\, Fambach\, Thüringen\, 98597
CATEGORIES:Gottesdienste
ATTACH;FMTTYPE=image/png:https://fambach.eksm.de/wp-content/uploads/2025/03/weltgebetstag-1-e1741287145445.png
END:VEVENT
END:VCALENDAR