BEGIN:VCALENDAR
VERSION:2.0
PRODID:-//Kirchengemeinde Fambach - ECPv6.15.20//NONSGML v1.0//EN
CALSCALE:GREGORIAN
METHOD:PUBLISH
X-WR-CALNAME:Kirchengemeinde Fambach
X-ORIGINAL-URL:https://fambach.eksm.de
X-WR-CALDESC:Veranstaltungen für Kirchengemeinde Fambach
REFRESH-INTERVAL;VALUE=DURATION:PT1H
X-Robots-Tag:noindex
X-PUBLISHED-TTL:PT1H
BEGIN:VTIMEZONE
TZID:Europe/Berlin
BEGIN:DAYLIGHT
TZOFFSETFROM:+0100
TZOFFSETTO:+0200
TZNAME:CEST
DTSTART:20220327T010000
END:DAYLIGHT
BEGIN:STANDARD
TZOFFSETFROM:+0200
TZOFFSETTO:+0100
TZNAME:CET
DTSTART:20221030T010000
END:STANDARD
BEGIN:DAYLIGHT
TZOFFSETFROM:+0100
TZOFFSETTO:+0200
TZNAME:CEST
DTSTART:20230326T010000
END:DAYLIGHT
BEGIN:STANDARD
TZOFFSETFROM:+0200
TZOFFSETTO:+0100
TZNAME:CET
DTSTART:20231029T010000
END:STANDARD
BEGIN:DAYLIGHT
TZOFFSETFROM:+0100
TZOFFSETTO:+0200
TZNAME:CEST
DTSTART:20240331T010000
END:DAYLIGHT
BEGIN:STANDARD
TZOFFSETFROM:+0200
TZOFFSETTO:+0100
TZNAME:CET
DTSTART:20241027T010000
END:STANDARD
END:VTIMEZONE
BEGIN:VEVENT
DTSTART;TZID=Europe/Berlin:20231231T153000
DTEND;TZID=Europe/Berlin:20231231T163000
DTSTAMP:20260424T161317
CREATED:20231213T124850Z
LAST-MODIFIED:20231213T130207Z
UID:4057-1704036600-1704040200@fambach.eksm.de
SUMMARY:Gottesdienst zum Altjahresabend in Heßles
DESCRIPTION:Ich möchte Sie herzlich zum letzten Gottesdienst in 2023 einladen. \nLassen Sie uns gemeinsam auf das vergangene und das kommende Jahr blicken. \nIch freue mich über Ihr Kommen. \nIhre Pfarrerin Milina Reichardt-Hahn
URL:https://fambach.eksm.de/veranstaltung/gottesdienst-zum-altjahresabend/
LOCATION:Simultangebäude Heßles\, Str. der Freundschaft 49\, Fambach OT Heßles\, Thüringen\, 98597\, Deutschland
CATEGORIES:Gottesdienste
END:VEVENT
BEGIN:VEVENT
DTSTART;TZID=Europe/Berlin:20231231T170000
DTEND;TZID=Europe/Berlin:20231231T180000
DTSTAMP:20260424T161317
CREATED:20231213T125500Z
LAST-MODIFIED:20231227T214226Z
UID:4062-1704042000-1704045600@fambach.eksm.de
SUMMARY:Gottesdienst zum Altjahresabend in Fambach
DESCRIPTION:Ich möchte Sie herzlich zum letzten Gottesdienst in 2023 einladen. \nLassen Sie uns gemeinsam auf das vergangene und das kommende Jahr blicken. \n  \nIch freue mich über Ihr Kommen. \nIhre Pfarrerin Milina Reichardt-Hahn
URL:https://fambach.eksm.de/veranstaltung/gottesdienst-zum-altjahresabend-in-fambach/
LOCATION:Jakobuskirche Fambach\, Kirchberg 4\, Fambach\, Thüringen\, 98597\, Deutschland
CATEGORIES:Gottesdienste
END:VEVENT
END:VCALENDAR