BEGIN:VCALENDAR
VERSION:2.0
PRODID:-//Kirchengemeinde Fambach - ECPv6.15.20//NONSGML v1.0//EN
CALSCALE:GREGORIAN
METHOD:PUBLISH
X-ORIGINAL-URL:https://fambach.eksm.de
X-WR-CALDESC:Veranstaltungen für Kirchengemeinde Fambach
REFRESH-INTERVAL;VALUE=DURATION:PT1H
X-Robots-Tag:noindex
X-PUBLISHED-TTL:PT1H
BEGIN:VTIMEZONE
TZID:Europe/Berlin
BEGIN:DAYLIGHT
TZOFFSETFROM:+0100
TZOFFSETTO:+0200
TZNAME:CEST
DTSTART:20220327T010000
END:DAYLIGHT
BEGIN:STANDARD
TZOFFSETFROM:+0200
TZOFFSETTO:+0100
TZNAME:CET
DTSTART:20221030T010000
END:STANDARD
BEGIN:DAYLIGHT
TZOFFSETFROM:+0100
TZOFFSETTO:+0200
TZNAME:CEST
DTSTART:20230326T010000
END:DAYLIGHT
BEGIN:STANDARD
TZOFFSETFROM:+0200
TZOFFSETTO:+0100
TZNAME:CET
DTSTART:20231029T010000
END:STANDARD
BEGIN:DAYLIGHT
TZOFFSETFROM:+0100
TZOFFSETTO:+0200
TZNAME:CEST
DTSTART:20240331T010000
END:DAYLIGHT
BEGIN:STANDARD
TZOFFSETFROM:+0200
TZOFFSETTO:+0100
TZNAME:CET
DTSTART:20241027T010000
END:STANDARD
END:VTIMEZONE
BEGIN:VEVENT
DTSTART;TZID=Europe/Berlin:20231224T153000
DTEND;TZID=Europe/Berlin:20231224T163000
DTSTAMP:20260424T161454
CREATED:20231211T130900Z
LAST-MODIFIED:20231213T133215Z
UID:4034-1703431800-1703435400@fambach.eksm.de
SUMMARY:Krippenspiel zum Heiligen Abend in Heßles
DESCRIPTION:An Heilig Abend möchte ich Sie herzlich zu unseren Krippenspielen einladen. \nIn Heßles findet das diesjährige Krippenspiel um 15:30 Uhr statt. \nVielen Dank an alle Mitwirkenden\, die uns auch diesmal den Zauber der Weihnacht veranschaulichen. \nHerzliche Grüße\, \nPfarrerin Milina Reichardt-Hahn
URL:https://fambach.eksm.de/veranstaltung/krippenspiel-zum-heiligen-abend-in-hessles/
LOCATION:Simultangebäude Heßles\, Str. der Freundschaft 49\, Fambach OT Heßles\, Thüringen\, 98597\, Deutschland
CATEGORIES:Gottesdienste,Krippenspiel
END:VEVENT
BEGIN:VEVENT
DTSTART;TZID=Europe/Berlin:20231224T170000
DTEND;TZID=Europe/Berlin:20231224T180000
DTSTAMP:20260424T161454
CREATED:20231211T131252Z
LAST-MODIFIED:20231213T133156Z
UID:4036-1703437200-1703440800@fambach.eksm.de
SUMMARY:Krippenspiel zum Heiligen Abend in Fambach
DESCRIPTION:An Heilig Abend möchte ich Sie herzlich zu unseren Krippenspielen einladen. \nIn Fambach findet das diesjährige Krippenspiel um 17 Uhr statt. \nVielen Dank an alle Mitwirkenden\, die uns auch diesmal den Zauber der Weihnacht veranschaulichen. \nHerzliche Grüße\, \nPfarrerin Milina Reichardt-Hahn
URL:https://fambach.eksm.de/veranstaltung/krippenspiel-zum-heiligen-abend-in-fambach/
LOCATION:Jakobuskirche Fambach\, Kirchberg 4\, Fambach\, Thüringen\, 98597\, Deutschland
CATEGORIES:Gottesdienste,Krippenspiel
ATTACH;FMTTYPE=image/jpeg:https://fambach.eksm.de/wp-content/uploads/2020/12/Heiligabend_2020.jpg
END:VEVENT
END:VCALENDAR